BEGIN:VCALENDAR
VERSION:2.0
PRODID:-//Sacramento County Republican Party - ECPv6.15.20//NONSGML v1.0//EN
CALSCALE:GREGORIAN
METHOD:PUBLISH
X-WR-CALNAME:Sacramento County Republican Party
X-ORIGINAL-URL:https://www.saccountygop.com
X-WR-CALDESC:Events for Sacramento County Republican Party
REFRESH-INTERVAL;VALUE=DURATION:PT1H
X-Robots-Tag:noindex
X-PUBLISHED-TTL:PT1H
BEGIN:VTIMEZONE
TZID:America/Los_Angeles
BEGIN:DAYLIGHT
TZOFFSETFROM:-0800
TZOFFSETTO:-0700
TZNAME:PDT
DTSTART:20230312T100000
END:DAYLIGHT
BEGIN:STANDARD
TZOFFSETFROM:-0700
TZOFFSETTO:-0800
TZNAME:PST
DTSTART:20231105T090000
END:STANDARD
BEGIN:DAYLIGHT
TZOFFSETFROM:-0800
TZOFFSETTO:-0700
TZNAME:PDT
DTSTART:20240310T100000
END:DAYLIGHT
BEGIN:STANDARD
TZOFFSETFROM:-0700
TZOFFSETTO:-0800
TZNAME:PST
DTSTART:20241103T090000
END:STANDARD
BEGIN:DAYLIGHT
TZOFFSETFROM:-0800
TZOFFSETTO:-0700
TZNAME:PDT
DTSTART:20250309T100000
END:DAYLIGHT
BEGIN:STANDARD
TZOFFSETFROM:-0700
TZOFFSETTO:-0800
TZNAME:PST
DTSTART:20251102T090000
END:STANDARD
END:VTIMEZONE
BEGIN:VEVENT
DTSTART;TZID=America/Los_Angeles:20240226T173000
DTEND;TZID=America/Los_Angeles:20240226T190000
DTSTAMP:20260420T103312
CREATED:20240214T215840Z
LAST-MODIFIED:20240214T220538Z
UID:127467-1708968600-1708974000@www.saccountygop.com
SUMMARY:Reception in Gold River for Board of Education Candidate Jay Martinez
DESCRIPTION:Support Sacramento County Office of Education (Area 4) Candidate \nJay Martinez\nFeb. 26\, 2023  5:30pm – 7:00pm\nSponsored by the Sacramento County Deputy Sheriff’s Association \nDownload the Flyer \nRSVP and Pay Online
URL:https://www.saccountygop.com/calendar/reception-in-gold-river-for-board-of-education-candidate-jay-martinez/
LOCATION:Gold River\, 2377 Gold Meadow Way\, Ste 100\, Gold River
CATEGORIES:23-24 Candidate Events,Events
ATTACH;FMTTYPE=image/png:https://www.saccountygop.com/wp-content/uploads/2024/02/Feb-26-Martinez-reception-header.png
END:VEVENT
END:VCALENDAR