BEGIN:VCALENDAR
VERSION:2.0
PRODID:-//Sacramento County Republican Party - ECPv6.15.20//NONSGML v1.0//EN
CALSCALE:GREGORIAN
METHOD:PUBLISH
X-WR-CALNAME:Sacramento County Republican Party
X-ORIGINAL-URL:https://www.saccountygop.com
X-WR-CALDESC:Events for Sacramento County Republican Party
REFRESH-INTERVAL;VALUE=DURATION:PT1H
X-Robots-Tag:noindex
X-PUBLISHED-TTL:PT1H
BEGIN:VTIMEZONE
TZID:America/Los_Angeles
BEGIN:DAYLIGHT
TZOFFSETFROM:-0800
TZOFFSETTO:-0700
TZNAME:PDT
DTSTART:20240310T100000
END:DAYLIGHT
BEGIN:STANDARD
TZOFFSETFROM:-0700
TZOFFSETTO:-0800
TZNAME:PST
DTSTART:20241103T090000
END:STANDARD
BEGIN:DAYLIGHT
TZOFFSETFROM:-0800
TZOFFSETTO:-0700
TZNAME:PDT
DTSTART:20250309T100000
END:DAYLIGHT
BEGIN:STANDARD
TZOFFSETFROM:-0700
TZOFFSETTO:-0800
TZNAME:PST
DTSTART:20251102T090000
END:STANDARD
BEGIN:DAYLIGHT
TZOFFSETFROM:-0800
TZOFFSETTO:-0700
TZNAME:PDT
DTSTART:20260308T100000
END:DAYLIGHT
BEGIN:STANDARD
TZOFFSETFROM:-0700
TZOFFSETTO:-0800
TZNAME:PST
DTSTART:20261101T090000
END:STANDARD
END:VTIMEZONE
BEGIN:VEVENT
DTSTART;TZID=America/Los_Angeles:20250614T170000
DTEND;TZID=America/Los_Angeles:20250614T200000
DTSTAMP:20260421T230248
CREATED:20250505T211252Z
LAST-MODIFIED:20250505T211252Z
UID:129857-1749920400-1749931200@www.saccountygop.com
SUMMARY:Celebrate President Trump's Birthday
DESCRIPTION:It’s Time To Celebrate! \nPresident Donald J. Trump’s Birthday BBQ\nSaturday\, June 14\, 20255pm – 8pmElk Grove\nEnjoy a Delicious Barbeque Dinner – Fun Games – Mingle with Local Leaders \nThe Elk Grove location will be provided to those who RSVP in advance of the event. \nRepublican Assemblyman Heath Flora will be the featured speakerwith more special guests to be announced! \nTickets:$60 Per Person$500 Reserve a Table for Eight and Sit With Friends! \nEvent Sponsors Appreciated!$1000 for Two VIP Tables and Photo with Featured Guests \nRSVP by June 9th \nClick on the image below to RSVP and Purchase Tickets Onlineor Click Here to download an RSVP Form and send with your check to the address provided.Questions? Call (916) 822-5618 or email Info@SacCountyGOP.com
URL:https://www.saccountygop.com/calendar/celebrate-president-trumps-birthday/
LOCATION:Elk Grove Address Provided Upon RSVP\, Private Residence\, Elk Grove
CATEGORIES:Events
ATTACH;FMTTYPE=image/png:https://www.saccountygop.com/wp-content/uploads/2025/05/TRUMPS-BIRTHDAY-BBQ-web-banner-rev.png
END:VEVENT
BEGIN:VEVENT
DTSTART;TZID=America/Los_Angeles:20250618T183000
DTEND;TZID=America/Los_Angeles:20250618T193000
DTSTAMP:20260421T230248
CREATED:20250515T203630Z
LAST-MODIFIED:20250619T212828Z
UID:129896-1750271400-1750275000@www.saccountygop.com
SUMMARY:June 2025 Central Committee Meeting
DESCRIPTION:The Sacramento County Republican Central Committee meets on the second Wednesday of the month unless an alternative date is approved. Meetings begin at 6:30pm. We do not hold meetings in July or December\, unless there is a special need. \nThe June meeting will be held on the third Wednesday of the month. \nAll registered Republicans who live in Sacramento County are welcome to attend the Committee meeting as guests\, and may observe\, but not participate in the proceedings. In order to confirm registration status\, advance sign up is appreciated but not required\, and no registered Republican in good standing who resides within the County will be turned away unless the meeting room has reached occupant capacity. Guest sign-up will be available two weeks in advance of the meeting. Sign up to observe the meeting using this link. \nThe June Agenda will include a review of plans for the State Fair and reports from Sub-Committees.  \n			\n			\n				\n				\n				\n				\n				\n				\n				\n				\n				\n				\n			\n				\n				\n				\n				\n				About SacCountyGOP Meetings \nThe Sacramento County Republican Central Committee meetings are open to Committee Members\, Alternates\, and Associates with some open seats for Sacramento County registered Republicans in good standing. Since participation in the Committee meeting is reserved for Committee members or their Alternates\, guests are encouraged to discuss their ideas in advance with a committee member (view the list of members)\, or to send their comments to info@saccountygop.com.\nNo video/audio recording is allowed during the meeting\, including on phones. Photos/videos will be taken by designated representatives of the SacCountyGOP only. Thank you!\n			\n			\n				\n				\n				\n				\n			\n				\n				\n				\n				\n				\n				\n				\n				\n				\n				\n				What Happened at the May Committee Meeting? \nChairman Forte reviewed opportunities to volunteer at the County Fair\, and to donate to the Sacramento County Republican Party by joining the 1776 Club and attending the Trump Birthday BBQ on June 14. \nThe vacancy in the position of Treasurer was filled by Anna Rohrbough.
URL:https://www.saccountygop.com/calendar/june-2025-central-committee-meeting/
LOCATION:Sacramento Gun Club\, 3443 Routier Road\, Sacramento\, 95827\, United States
ATTACH;FMTTYPE=image/png:https://www.saccountygop.com/wp-content/uploads/2024/12/Meeting-Header.png
END:VEVENT
END:VCALENDAR