BEGIN:VCALENDAR
VERSION:2.0
PRODID:-//Sacramento County Republican Party - ECPv6.15.20//NONSGML v1.0//EN
CALSCALE:GREGORIAN
METHOD:PUBLISH
X-ORIGINAL-URL:https://www.saccountygop.com
X-WR-CALDESC:Events for Sacramento County Republican Party
REFRESH-INTERVAL;VALUE=DURATION:PT1H
X-Robots-Tag:noindex
X-PUBLISHED-TTL:PT1H
BEGIN:VTIMEZONE
TZID:America/Los_Angeles
BEGIN:DAYLIGHT
TZOFFSETFROM:-0800
TZOFFSETTO:-0700
TZNAME:PDT
DTSTART:20240310T100000
END:DAYLIGHT
BEGIN:STANDARD
TZOFFSETFROM:-0700
TZOFFSETTO:-0800
TZNAME:PST
DTSTART:20241103T090000
END:STANDARD
BEGIN:DAYLIGHT
TZOFFSETFROM:-0800
TZOFFSETTO:-0700
TZNAME:PDT
DTSTART:20250309T100000
END:DAYLIGHT
BEGIN:STANDARD
TZOFFSETFROM:-0700
TZOFFSETTO:-0800
TZNAME:PST
DTSTART:20251102T090000
END:STANDARD
BEGIN:DAYLIGHT
TZOFFSETFROM:-0800
TZOFFSETTO:-0700
TZNAME:PDT
DTSTART:20260308T100000
END:DAYLIGHT
BEGIN:STANDARD
TZOFFSETFROM:-0700
TZOFFSETTO:-0800
TZNAME:PST
DTSTART:20261101T090000
END:STANDARD
END:VTIMEZONE
BEGIN:VEVENT
DTSTART;TZID=America/Los_Angeles:20250212T183000
DTEND;TZID=America/Los_Angeles:20250212T200000
DTSTAMP:20260422T202354
CREATED:20250125T032755Z
LAST-MODIFIED:20250212T190149Z
UID:129544-1739385000-1739390400@www.saccountygop.com
SUMMARY:February 2025 Central Committee Meeting
DESCRIPTION:The Sacramento County Republican Central Committee meets on the second Wednesday of the month. Meetings begin at 6:30pm. We do not hold meetings in July or December\, unless there is a special need. \nAll registered Republicans who live in Sacramento County are welcome to attend the Committee meeting as guests\, and may observe\, but not participate in the proceedings. The advance sign up deadline has passed\, but is not required\, and no registered Republican who resides within the County will be turned away unless the meeting room has reached occupant capacity. \nThe February Agenda will include presenting a budget\, appointing a Financial Review Committee to verify the transfer of official documents and assets to the new leadership\, and filling vacancies in Districts 1\, 4\, and Senate District 8. \n			\n			\n				\n				\n				\n				\n				\n				\n				\n				\n				\n				\n			\n				\n				\n				\n				\n				About SacCountyGOP Meetings \nThe Sacramento County Republican Central Committee meetings are open to Committee Members\, Alternates\, and Associates with some open seats for Sacramento County registered Republicans. Since participation in the Committee meeting is reserved for Committee members or their Alternates\, guests are encouraged to discuss their ideas in advance with a committee member (view the list of members)\, or to send their comments to info@saccountygop.com.\nNo recording devices are allowed during the meeting\, including phones. Photos/videos will be taken by representatives of the SacCountyGOP only. Thank you!\n			\n			\n				\n				\n				\n				\n			\n				\n				\n				\n				\n				\n				\n				\n				\n				\n				\n				What Happened at the January Organizing Meeting? \nThe newly seated Central Committee elected new leadership\, including Chairman Christian Forte\, 1st Vice Chair Sue Blake\, 2nd Vice Chair Carl Brickey\, Treasurer Jay Martinez\, and Secretary Matt Hedges. New Bylaws were also adopted.
URL:https://www.saccountygop.com/calendar/february-2025-central-committee-meeting/
LOCATION:Sacramento Gun Club\, 3443 Routier Road\, Sacramento\, 95827\, United States
ATTACH;FMTTYPE=image/png:https://www.saccountygop.com/wp-content/uploads/2024/12/Meeting-Header.png
END:VEVENT
END:VCALENDAR