BEGIN:VCALENDAR
VERSION:2.0
PRODID:-//Sacramento County Republican Party - ECPv6.15.20//NONSGML v1.0//EN
CALSCALE:GREGORIAN
METHOD:PUBLISH
X-WR-CALNAME:Sacramento County Republican Party
X-ORIGINAL-URL:https://www.saccountygop.com
X-WR-CALDESC:Events for Sacramento County Republican Party
REFRESH-INTERVAL;VALUE=DURATION:PT1H
X-Robots-Tag:noindex
X-PUBLISHED-TTL:PT1H
BEGIN:VTIMEZONE
TZID:America/Los_Angeles
BEGIN:DAYLIGHT
TZOFFSETFROM:-0800
TZOFFSETTO:-0700
TZNAME:PDT
DTSTART:20230312T100000
END:DAYLIGHT
BEGIN:STANDARD
TZOFFSETFROM:-0700
TZOFFSETTO:-0800
TZNAME:PST
DTSTART:20231105T090000
END:STANDARD
BEGIN:DAYLIGHT
TZOFFSETFROM:-0800
TZOFFSETTO:-0700
TZNAME:PDT
DTSTART:20240310T100000
END:DAYLIGHT
BEGIN:STANDARD
TZOFFSETFROM:-0700
TZOFFSETTO:-0800
TZNAME:PST
DTSTART:20241103T090000
END:STANDARD
BEGIN:DAYLIGHT
TZOFFSETFROM:-0800
TZOFFSETTO:-0700
TZNAME:PDT
DTSTART:20250309T100000
END:DAYLIGHT
BEGIN:STANDARD
TZOFFSETFROM:-0700
TZOFFSETTO:-0800
TZNAME:PST
DTSTART:20251102T090000
END:STANDARD
END:VTIMEZONE
BEGIN:VEVENT
DTSTART;TZID=America/Los_Angeles:20241105T070000
DTEND;TZID=America/Los_Angeles:20241105T200000
DTSTAMP:20260423T070711
CREATED:20241020T194505Z
LAST-MODIFIED:20241030T231841Z
UID:128955-1730790000-1730836800@www.saccountygop.com
SUMMARY:Election Day
DESCRIPTION:Tuesday\, November 5th is the last day voters may mail their ballot or vote in person!  \nWe don’t recommend voters wait till Election Day for these reasons: \n\nIf something goes wrong with your schedule that day\, you might not have time to vote.\nIf you don’t realize there is something wrong with your voter registration or ballot\, you will have to wait in long lines at a Vote Center to get it straightened out.\nThe Republican Party will need to use valuable resources to bug you about submitting your ballot.\nWhen we see turnout data in a district that is going well\, we can switch to other districts to improve turnout.\n\nVOTER ALERT! SacCountyGOP Headquarters (9851 Horn Road\, Ste. 100\, Sacramento) is the place to drop off your completed ballot if you aren’t comfortable using snail mail or a County voting location. We will hand-deliver your ballot inside the Sacramento County Elections Office by the next business day! The deadline on Election Day to bring us your ballot will be 5pm. After that\, you must go to a Vote Center or Drop Box. Don’t put your ballot in a USPS mailbox after the posted collection time!! It will not be accepted if it is posted the next day. \n\nIssues with your ballot or registration? Call the Sacramento County Voter Registration and Elections toll-free voter assistance hotline at (800) 762-8019. Don’t wait till the last minute!! \nNeed to visit the County Elections office? Sacramento County Elections – 7000 65th Street\, Sacramento (off Florin Road & Hwy. 99) \n\n  \n			\n			\n				\n				\n				\n				\n			\n				\n				\n				\n				\n				\n				\n				Official Republican Voter Guide\n			\n				About the Ballot Measures\n			\n				Drop Your Ballot at GOP Hdqrts\n			\n			\n				\n				\n				\n				\n				\n				In-Person Voting Locations\n			\n				Vote By Mail or Use a Drop Box\n			\n				Sign Up to Track Your Ballot\n			\n			\n				\n				\n				\n				\n			\n				\n				\n				\n				\n				\n				\n				\n				\n				\n				\n				\n			\n			\n				\n				\n				\n				\n				\n				\n				\n				\n				\n				  \nWe will gather on Election Night with our candidates and volunteers who worked so hard in this election. Stop by Brookside Restaurant where you can purchase dinner and drinks and celebrate with friends! Many of our volunteers and Election Observers will be working right up until 8pm\, but you’re welcome to arrive early and grab a seat in front of the TVs! \nSee you then! It’s going to be a great night!
URL:https://www.saccountygop.com/calendar/election-day-nov5/
LOCATION:SCRP Headquarters\, 9851 Horn Road\, Ste. 100\, Sacramento\, 95827\, United States
CATEGORIES:2024 Election,Events
ATTACH;FMTTYPE=image/png:https://www.saccountygop.com/wp-content/uploads/2024/10/Vote-Republican-Election-Pg-Header.png
END:VEVENT
BEGIN:VEVENT
DTSTART;TZID=America/Los_Angeles:20241120T183000
DTEND;TZID=America/Los_Angeles:20241120T183000
DTSTAMP:20260423T070712
CREATED:20241102T164555Z
LAST-MODIFIED:20241115T013106Z
UID:129059-1732127400-1732127400@www.saccountygop.com
SUMMARY:November 2024 Central Committee Meeting
DESCRIPTION:About SacCountyGOP Meetings \nThe Sacramento County Republican Central Committee meetings are open to Committee Members\, Alternates\, and Associates with 25 open seats for invited guests. The agenda is set in advance by the SCRP Executive Committee. Since participation in the Committee meeting is reserved for Committee members only\, guests are encouraged to discuss their ideas in advance with a committee member (view the list of members)\, or to send their comments to info@saccountygop.com.\nNo recording devices are allowed during the meeting\, including phones. Photos/videos will be taken by representatives of the SacCountyGOP only. Thank you!\n			\n			\n				\n				\n				\n				\n				\n				\n				\n				\n				\n				The Sacramento County Republican Central Committee meets on the third Wednesday of the month. Meetings begin at 6:30pm. We do not hold meetings in July or December\, unless there is a special need. \nGuests and Committee Members are welcome to come early (6pm) when we will kick off the celebration with some sparkling cider (we meet at a gun club…so no adult beverages allowed).  \nRegistered Republicans in Sacramento County who sign up in advance may attend to observe the meeting. Use this link to register. \nThe November Agenda will be a celebration of the victorious November election with all candidates invited to attend. We will also discuss plans for our Holiday Charity project. This will be the last meeting for the current Central Committee. \n			\n			\n				\n				\n				\n				\n			\n				\n				\n				\n				\n				\n				\n				\n				\n				\n				\n				What Happened at the October Meeting? \nThe Committee received a briefing on all GOTV activities including phone banks\, walks\, emails\, texts\, newspaper ads\, printed and mailed Voter Guides\, and use of digital methods.  \nChair Mahan reported on the successful reception with Lanhee Chen and the October 12 Open House where voters were able to drop off their ballots and meet the candidates. Mahan also announced the SacGOP is holding an Election Night Party at Brookside Restaurant (near headquarters) and everyone is welcome. \nNina Caron reported on her Election Observer program having trained over 100 volunteers to watch Vote Centers and the closing of Drop Boxes on Election Night. \nChristian Forte asked all District Precinct leaders to report on walks held\, with District 5 taking the lead in houses walked. \nBarbara Sloan reported on successful community events held in Fair Oaks\, Elk Grove and Citrus Heights. Many thanks to the volunteers who ran our information booths and handed out Voter Guides. \nEndorsed candidates were given the opportunity to report on their campaigns and Clubs announced upcoming events. Upcoming candidate events are listed on Upcoming Events page. \n 
URL:https://www.saccountygop.com/calendar/november-2024-central-committee-meeting/
LOCATION:Sacramento Gun Club\, 3443 Routier Road\, Sacramento\, 95827\, United States
CATEGORIES:SCRP
ATTACH;FMTTYPE=image/png:https://www.saccountygop.com/wp-content/uploads/2017/02/MonthlyMtg-Feature-2.png
END:VEVENT
END:VCALENDAR