BEGIN:VCALENDAR
VERSION:2.0
PRODID:-//Sacramento County Republican Party - ECPv6.15.20//NONSGML v1.0//EN
CALSCALE:GREGORIAN
METHOD:PUBLISH
X-ORIGINAL-URL:https://www.saccountygop.com
X-WR-CALDESC:Events for Sacramento County Republican Party
REFRESH-INTERVAL;VALUE=DURATION:PT1H
X-Robots-Tag:noindex
X-PUBLISHED-TTL:PT1H
BEGIN:VTIMEZONE
TZID:America/Los_Angeles
BEGIN:DAYLIGHT
TZOFFSETFROM:-0800
TZOFFSETTO:-0700
TZNAME:PDT
DTSTART:20230312T100000
END:DAYLIGHT
BEGIN:STANDARD
TZOFFSETFROM:-0700
TZOFFSETTO:-0800
TZNAME:PST
DTSTART:20231105T090000
END:STANDARD
BEGIN:DAYLIGHT
TZOFFSETFROM:-0800
TZOFFSETTO:-0700
TZNAME:PDT
DTSTART:20240310T100000
END:DAYLIGHT
BEGIN:STANDARD
TZOFFSETFROM:-0700
TZOFFSETTO:-0800
TZNAME:PST
DTSTART:20241103T090000
END:STANDARD
BEGIN:DAYLIGHT
TZOFFSETFROM:-0800
TZOFFSETTO:-0700
TZNAME:PDT
DTSTART:20250309T100000
END:DAYLIGHT
BEGIN:STANDARD
TZOFFSETFROM:-0700
TZOFFSETTO:-0800
TZNAME:PST
DTSTART:20251102T090000
END:STANDARD
END:VTIMEZONE
BEGIN:VEVENT
DTSTART;TZID=America/Los_Angeles:20240302T091500
DTEND;TZID=America/Los_Angeles:20240302T130000
DTSTAMP:20260423T121205
CREATED:20240227T013018Z
LAST-MODIFIED:20240227T014412Z
UID:127621-1709370900-1709384400@www.saccountygop.com
SUMMARY:Super Saturday GOTV with Josh Hoover
DESCRIPTION:Join Team Hoover at Hoover Headquarters\, located at 13405 Folsom Blvd\, Folsom\, for their final weekend canvassing event! \nMeet at 9:15AM to get free coffee and donuts and hear from Josh Hoover. Team Hoover will be manning the Hdqrts all day to get volunteers set up for canvassing. \nRSVP Here
URL:https://www.saccountygop.com/calendar/super-saturday-gotv-with-josh-hoover/
LOCATION:Hoover for Assembly Headquarters\, 6693 Folsom Auburn Road\, Folsom
CATEGORIES:2024 Election,23-24 Candidate Events,Events
END:VEVENT
BEGIN:VEVENT
DTSTART;TZID=America/Los_Angeles:20240302T100000
DTEND;TZID=America/Los_Angeles:20240302T130000
DTSTAMP:20260423T121205
CREATED:20240215T211054Z
LAST-MODIFIED:20240227T020109Z
UID:127492-1709373600-1709384400@www.saccountygop.com
SUMMARY:Phone Voters
DESCRIPTION:Volunteers Needed at the Phone Bank!\nSaturday\, March 2nd10am – 1pmWeekdays during office hours (9am – 6pm Mon-Thurs & till 2pm on Fri)SacCountyGOP Headquarters9851 Horn Road\, Ste. 100\, Sacramento(916) 822-5618 \nYou’ll be telling voters about our fabulous endorsed candidates!Sign Up In Advance So We Know You’re Coming! \n			\n				Sign Up to Call Voters
URL:https://www.saccountygop.com/calendar/phone-voters/
LOCATION:SCRP Headquarters\, 9851 Horn Road\, Ste. 100\, Sacramento\, 95827\, United States
CATEGORIES:2024 Election,Events
ATTACH;FMTTYPE=image/png:https://www.saccountygop.com/wp-content/uploads/2024/02/Mar-2-Phone-Bank-rev2.png
END:VEVENT
BEGIN:VEVENT
DTSTART;TZID=America/Los_Angeles:20240302T110000
DTEND;TZID=America/Los_Angeles:20240302T130000
DTSTAMP:20260423T121205
CREATED:20240226T195634Z
LAST-MODIFIED:20240226T195634Z
UID:127599-1709377200-1709384400@www.saccountygop.com
SUMMARY:Vote Early Rally
DESCRIPTION:Rosario Rodriguez for Board of Supervisors will host a GOTV Rally and Vote Party in Citrus Heights on Saturday\, March 2nd. \nCome out and sign the petition to Reform Prop. 47 and Bring your Ballot! \nLearn more and RSVP at this link.
URL:https://www.saccountygop.com/calendar/vote-early-rally/
LOCATION:Vote Early\, 7433 Greenback Lane\, Citrus Heights
CATEGORIES:2024 Election,Events
END:VEVENT
BEGIN:VEVENT
DTSTART;TZID=America/Los_Angeles:20240303T160000
DTEND;TZID=America/Los_Angeles:20240303T180000
DTSTAMP:20260423T121205
CREATED:20240226T235708Z
LAST-MODIFIED:20240226T235708Z
UID:127617-1709481600-1709488800@www.saccountygop.com
SUMMARY:Young Republicans Ballots and Beers
DESCRIPTION:
URL:https://www.saccountygop.com/calendar/young-republicans-ballots-and-beers/
LOCATION:SCRP Headquarters\, 9851 Horn Road\, Ste. 100\, Sacramento\, 95827\, United States
CATEGORIES:2024 Election,Events,GOP Organization
ATTACH;FMTTYPE=image/png:https://www.saccountygop.com/wp-content/uploads/2024/02/Ballots-and-Beer-Mar-3-header.png
ORGANIZER;CN="Greater Sacramento Young Republicans":MAILTO:cyrfofgreatersacramento@gmail.com
END:VEVENT
BEGIN:VEVENT
DTSTART;TZID=America/Los_Angeles:20240305T150000
DTEND;TZID=America/Los_Angeles:20240305T190000
DTSTAMP:20260423T121205
CREATED:20240227T014037Z
LAST-MODIFIED:20240227T014037Z
UID:127625-1709650800-1709665200@www.saccountygop.com
SUMMARY:Phone Bank for Josh Hoover
DESCRIPTION:Join Team Hoover at Hoover Headquarters at 13405 Folsom Blvd\, Folsom for their final volunteer event of the Primary Election! \nThey will be running an open door phonebank from 3PM to 7PM. Come by during those times to help call voters still holding onto their ballots! \nRSVP Here
URL:https://www.saccountygop.com/calendar/phone-bank-for-josh-hoover/
LOCATION:Hoover for Assembly Headquarters\, 6693 Folsom Auburn Road\, Folsom
CATEGORIES:2024 Election,23-24 Candidate Events,Events
END:VEVENT
BEGIN:VEVENT
DTSTART;TZID=America/Los_Angeles:20240320T183000
DTEND;TZID=America/Los_Angeles:20240320T193000
DTSTAMP:20260423T121205
CREATED:20240222T195456Z
LAST-MODIFIED:20240320T184016Z
UID:127537-1710959400-1710963000@www.saccountygop.com
SUMMARY:March 2024 Central Committee Meeting
DESCRIPTION:About SacCountyGOP Meetings \nThe Sacramento County Republican Central Committee meetings are open to Committee Members\, Alternates\, and Associates with 25 open seats for invited guests. The agenda is set in advance by the SCRP Executive Committee. Since participation in the Committee meeting is reserved for Committee members only\, guests are encouraged to discuss their ideas in advance with a committee member (view the list of members)\, or to send their comments to info@saccountygop.com.\nNo recording devices are allowed during the meeting\, including phones. Photos/videos will be taken by representatives of the SacCountyGOP only. Thank you!\n			\n			\n				\n				\n				\n				\n				\n				\n				\n				\n				\n				The Sacramento County Republican Central Committee meets on the third Wednesday of the month. Meetings begin at 6:30pm. We do not hold meetings in July or December\, unless there is a special need. \nRegistered Republicans in Sacramento County who signed up in advance to observe the meeting have been notified that they are welcome to attend. \nThe March agenda will include a review of March Election results and plans for November as well as the calendar of upcoming community events where SacGOP will host a table or booth. We will also review ballot measures that are circulating to qualify for the November election and will announce the timeline for November candidate filings and endorsements. \n			\n			\n				\n				\n				\n				\n			\n				\n				\n				\n				\n				\n				\n				\n				\n				\n				\n				What Happened at the February Meeting? \nChair Betsy Mahan provided a review of the successful Open House and Presidents’ Day Dinner events. Over 60 ballots were collected\, observers were trained\, and phone calls made to support our candidates at the Open House. Presidents’ Day Keynote Speaker Steve Hilton was inspiring and we thank all sponsors and volunteers who made the Dinner a success. \nThe Central Committee unanimously approved the Executive Committee recommendations on ballot measures as follows: \n\nYes on Homelessness\, Drug Addiction\, and Theft Reduction Act (Reform Prop. 47)\nYes on Protect Kids of California Act of 2024 (parental notifications/no boys in girls sports or bathrooms/prohibits sex changes for minors)\nNo on City of Sacramento Measure C (business operations/license tax increases)\n\nWe also heard a presentation by Robert Goss\, Folsom Takes Action\, promoting a special sales tax increase of 1% to support community services. Nick Bloise stated on behalf of the Sacramento Taxpayers Association that they are in opposition. The Committee will revisit the issue in the future if the measure qualifies for the November ballot. \nChair Mahan gave a report on voter outreach\, including over 3\,000 calls made to date\, texting and email campaigns to promote SacCountyGOP’s Voter guide\, joining in on candidate walks\, and the Pick Up 50 program where Republicans can take 50 Voter Guides and distribute them to their friends\, neighbors\, and colleagues. 
URL:https://www.saccountygop.com/calendar/march-2024-central-committee-meeting/
LOCATION:Sacramento Gun Club\, 3443 Routier Road\, Sacramento\, 95827\, United States
CATEGORIES:SCRP
ATTACH;FMTTYPE=image/png:https://www.saccountygop.com/wp-content/uploads/2017/02/MonthlyMtg-Feature-2.png
END:VEVENT
END:VCALENDAR