BEGIN:VCALENDAR
VERSION:2.0
PRODID:-//Sacramento County Republican Party - ECPv6.15.20//NONSGML v1.0//EN
CALSCALE:GREGORIAN
METHOD:PUBLISH
X-WR-CALNAME:Sacramento County Republican Party
X-ORIGINAL-URL:https://www.saccountygop.com
X-WR-CALDESC:Events for Sacramento County Republican Party
REFRESH-INTERVAL;VALUE=DURATION:PT1H
X-Robots-Tag:noindex
X-PUBLISHED-TTL:PT1H
BEGIN:VTIMEZONE
TZID:America/Los_Angeles
BEGIN:DAYLIGHT
TZOFFSETFROM:-0800
TZOFFSETTO:-0700
TZNAME:PDT
DTSTART:20220313T100000
END:DAYLIGHT
BEGIN:STANDARD
TZOFFSETFROM:-0700
TZOFFSETTO:-0800
TZNAME:PST
DTSTART:20221106T090000
END:STANDARD
BEGIN:DAYLIGHT
TZOFFSETFROM:-0800
TZOFFSETTO:-0700
TZNAME:PDT
DTSTART:20230312T100000
END:DAYLIGHT
BEGIN:STANDARD
TZOFFSETFROM:-0700
TZOFFSETTO:-0800
TZNAME:PST
DTSTART:20231105T090000
END:STANDARD
BEGIN:DAYLIGHT
TZOFFSETFROM:-0800
TZOFFSETTO:-0700
TZNAME:PDT
DTSTART:20240310T100000
END:DAYLIGHT
BEGIN:STANDARD
TZOFFSETFROM:-0700
TZOFFSETTO:-0800
TZNAME:PST
DTSTART:20241103T090000
END:STANDARD
END:VTIMEZONE
BEGIN:VEVENT
DTSTART;TZID=America/Los_Angeles:20230929T120000
DTEND;TZID=America/Los_Angeles:20231001T130000
DTSTAMP:20260423T195426
CREATED:20230802T180345Z
LAST-MODIFIED:20231002T165404Z
UID:126706-1695988800-1696165200@www.saccountygop.com
SUMMARY:CAGOP Fall Convention 2023
DESCRIPTION:The 2023 CAGOP Fall Convention has concluded after a spirited gathering that featured four Presidential candidates. \nRead the Committee Reports.
URL:https://www.saccountygop.com/calendar/cagop-fall-convention-2023/
LOCATION:Anaheim Marriott\, 700 West Convention Way\, Anaheim\, California
CATEGORIES:CAGOP,Events
ATTACH;FMTTYPE=image/png:https://www.saccountygop.com/wp-content/uploads/2023/08/Fall-Convention-header.png
END:VEVENT
BEGIN:VEVENT
DTSTART;TZID=America/Los_Angeles:20231007T100000
DTEND;TZID=America/Los_Angeles:20231007T120000
DTSTAMP:20260423T195426
CREATED:20231006T173435Z
LAST-MODIFIED:20231006T173945Z
UID:126908-1696672800-1696680000@www.saccountygop.com
SUMMARY:Preston Romero for AD6 Campaign Kick-off!
DESCRIPTION:
URL:https://www.saccountygop.com/calendar/preston-romero-for-ad6-campaign-kick-off/
LOCATION:South Natomas Community Park\, 2921 Truxel Road\, Sacramento\, California
CATEGORIES:23-24 Candidate Events,Events
ATTACH;FMTTYPE=image/png:https://www.saccountygop.com/wp-content/uploads/2023/10/Romero-website-header.png
END:VEVENT
BEGIN:VEVENT
DTSTART;TZID=America/Los_Angeles:20231007T100000
DTEND;TZID=America/Los_Angeles:20231008T170000
DTSTAMP:20260423T195426
CREATED:20231003T001729Z
LAST-MODIFIED:20231005T012241Z
UID:126883-1696672800-1696784400@www.saccountygop.com
SUMMARY:Republican Booth at the Elk Grove Giant Pumpkin Festival
DESCRIPTION:The Elk Grove Giant Pumpkin Festival\nA Great Family Event! \nKick off the Fall season in Elk Grove Park. Watch giant pumpkins carved like canoes race across the lake. See who will win a cash prize with the largest pumpkin – guaranteed to weigh over 1\,000 pounds! And\, of course\, stop by the Sacramento County Republican Booth and meet our volunteers and candidates running in the 2024 election! \nDid you know California has some of the nation’s highest state income\, sales and gas taxes along with rising property and utility taxes? We need some relief! \nThe “Repeal the Death Tax” initiative will restore the provisions of two voter-approved initiatives that were erased by Proposition 19 in 2020. Many voters did not realize that Prop. 19 removed protections from reassessment that had been in place for nearly 35 years. The initiative will restore Prop. 58\, approved by nearly 76% of voters in 1986\, which created the parent-child exclusion from reassessment when property is transferred between generations. It will also restore Prop. 193 (1996)\, which extended the same rights to grandparents and grandchildren if the children’s parents were deceased. \nWe will have petitions at our booth for voters to sign to make sure the Repeal the Death Tax initiative makes it to the November ballot! \nQuestions? Call headquarters at (916) 822-5618. \nLearn more about the Festival.
URL:https://www.saccountygop.com/calendar/republican-booth-at-the-elk-grove-giant-pumpkin-festival/
LOCATION:Elk Grove Regional Park\, 9950 Elk Grove-Florin Road\, Elk Grove
CATEGORIES:Community Event,Events
ATTACH;FMTTYPE=image/png:https://www.saccountygop.com/wp-content/uploads/2023/10/Pumpkin-Fest-header-rev.png
END:VEVENT
BEGIN:VEVENT
DTSTART;TZID=America/Los_Angeles:20231009T100000
DTEND;TZID=America/Los_Angeles:20231009T200000
DTSTAMP:20260423T195426
CREATED:20231004T014942Z
LAST-MODIFIED:20231004T172851Z
UID:126890-1696845600-1696881600@www.saccountygop.com
SUMMARY:Make Calls for Monique
DESCRIPTION:We’re all talking about falling test scores\, the need for parental rights\, and the indoctrination in schools. Now we can do something about it! \nThere will be a special election on November 7\, 2023 in the Natomas Unified School District. Voters in Area 4 (north of Del Paso Blvd.) will start receiving their ballots the weekend of October 7th and we need to be sure they vote for Republican Monique Hokman! \nWe will have two shifts of callers on Monday\, October 9th. Please take some time to come call. This will be a very low turnout race\, which is an opportunity for Monique if we can just reach voters in her district. \n			\n				Sign Up to Make Calls for Monique
URL:https://www.saccountygop.com/calendar/make-calls-for-monique/
LOCATION:SCRP Headquarters\, 9851 Horn Road\, Ste. 100\, Sacramento\, 95827\, United States
CATEGORIES:Events,School Districts
ATTACH;FMTTYPE=image/png:https://www.saccountygop.com/wp-content/uploads/2023/10/Make-Some-Calls-to-Elect-Monique-Hokman-1200-x-600-px.png
END:VEVENT
BEGIN:VEVENT
DTSTART;TZID=America/Los_Angeles:20231015T133000
DTEND;TZID=America/Los_Angeles:20231015T163000
DTSTAMP:20260423T195426
CREATED:20231010T233852Z
LAST-MODIFIED:20231010T233852Z
UID:126932-1697376600-1697387400@www.saccountygop.com
SUMMARY:Conservative Media and TV Training
DESCRIPTION:Candidates! Time to brush up your speaking and on-camera skills! \nThe Leadership Institute will teach you how to tailor your appearance and message delivery for TV in this informative Television Workshop\, Introduction to Techniques and On-Camera practice \nYou’ll look like a professional on camera and avoid the mistakes that identify you as a rookie.  \nHow you’ll benefit: \n•Learn how to develop your message for TV and radio \n•Understand how to speak in “sound bites” \n•Practice correct on-camera gestures and appearance \nYou’ll be coached through interviews while receiving personalized critiques and feedback on how to better tailor your message for TV. \nIndividuals who attend the on-camera workshop receive footage of their performance. Class size is limited to maximize your time on camera. \n			\n				RSVP for this Free Training!
URL:https://www.saccountygop.com/calendar/conservative-media-and-tv-training/
LOCATION:Sacramento Gun Club\, 3443 Routier Road\, Sacramento\, 95827\, United States
CATEGORIES:23-24 Candidate Events,Events
ATTACH;FMTTYPE=image/png:https://www.saccountygop.com/wp-content/uploads/2023/10/LI-Oct-15-Media-Training-header.png
END:VEVENT
BEGIN:VEVENT
DTSTART;TZID=America/Los_Angeles:20231015T140000
DTEND;TZID=America/Los_Angeles:20231015T170000
DTSTAMP:20260423T195426
CREATED:20231004T024928Z
LAST-MODIFIED:20231004T033312Z
UID:126895-1697378400-1697389200@www.saccountygop.com
SUMMARY:Perez Ballot Collection Open House
DESCRIPTION:Voters in Citrus Heights may not be expecting a ballot in the mail.. \nSo we need to let them know it’s coming\, and that they have an opportunity to put a pro-kids parent on the San Juan School Board! \nSpread the word to Citrus Heights voters to find their ballot and then bring it to this Open House reception at the home of Diana & Tom Miller. SacCountyGOP has experience collecting and delivering ballots to the County Elections office. We won’t put it back in the mail!! \nPlease RSVP to: Info@SacCountyGOP.com so we have enough libations and appetizers for all to enjoy! Then we’ll send you more details about the event. \nThis will be a low turnout election. Manuel Perez is our endorsed Republican candidate and he deserves to be elected! We must do everything possible to help him\, so be sure to visit his website\, place a sign in your yard or place of business in Citrus Heights\, and collect those ballots! \nIf you don’t vote in this district\, and haven’t volunteered to help Manuel\, we’d appreciate a donation to his campaign. Every dollar helps him reach more voters!  Use this link to donate – even if you do bring your ballot! Thank you!
URL:https://www.saccountygop.com/calendar/perez-ballot-collection-open-house/
LOCATION:Miller Residence\, 6901 Calvin Drive\, Citrus Heights
CATEGORIES:Events,School Districts
ATTACH;FMTTYPE=image/png:https://www.saccountygop.com/wp-content/uploads/2023/10/Oct-15-Ballot-Collection-Open-House-header.png
END:VEVENT
BEGIN:VEVENT
DTSTART;TZID=America/Los_Angeles:20231018T183000
DTEND;TZID=America/Los_Angeles:20231018T193000
DTSTAMP:20260423T195426
CREATED:20230923T195614Z
LAST-MODIFIED:20231018T183540Z
UID:126853-1697653800-1697657400@www.saccountygop.com
SUMMARY:October 2023 Central Committee Meeting
DESCRIPTION:About SacCountyGOP Meetings \nThe Sacramento County Republican Central Committee meetings are open to Committee Members\, Alternates\, and Associates with 25 open seats for invited guests. The agenda is set in advance by the SCRP Executive Committee. Since participation in the Committee meeting is reserved for Committee members only\, guests are encouraged to discuss their ideas in advance with a committee member (view the list of members)\, or to send their comments to info@saccountygop.com.\nNo recording devices are allowed during the meeting\, including phones. Photos/videos will be taken by representatives of the SacCountyGOP only. Thank you!\n			\n			\n				\n				\n				\n				\n				\n				\n				\n				\n				\n				The Sacramento County Republican Central Committee meets on the third Wednesday of the month. Meetings begin at 6:30pm. We do not hold meetings in July or December\, unless there is a special circumstance. \nRegistered Republicans in Sacramento County who registered to attend in advance may observe the meeting.  \nThe October agenda will include a review of the CAGOP Fall Convention\, upcoming events\, and the November 7th Special Election. We will also consider pending ballot measures for the March and November elections. \n			\n			\n				\n				\n				\n				\n			\n				\n				\n				\n				\n				\n				\n				\n				\n				\n				\n				What Happened at the September Meeting? \nThe Central Committee filled two Committee vacancies including Taylor Bartucca in District 1\, and Ruth Alexander in District 2. Our featured speaker was Ben Granholm of Swing Strategies. He briefed the Committee on recent ballot measure activities\, including two measures impacting tax rates that deserve our help as they collect signatures. Committee Members approved a resolution to protect the current number of US Supreme Court Justices. The “Keep Nine” resolution is widely supported by Republican organizations across the country. \nA report was given on the Fair Oaks Chicken Festival and the Phone Bank that was reaching out to voters who recently moved into Sacramento County. \nUpcoming Events: \n\nSept. 23 Phone Bank at Hdqrts – New Movers\nSept. 24 Citrus Heights Sunday Funday\nOct. 7-8 Elk Grove Giant Pumpkin Festival
URL:https://www.saccountygop.com/calendar/october-2023-central-committee-meeting/
LOCATION:Sacramento Gun Club\, 3443 Routier Road\, Sacramento\, 95827\, United States
CATEGORIES:SCRP
ATTACH;FMTTYPE=image/png:https://www.saccountygop.com/wp-content/uploads/2017/02/MonthlyMtg-Feature-2.png
END:VEVENT
BEGIN:VEVENT
DTSTART;TZID=America/Los_Angeles:20231021T100000
DTEND;TZID=America/Los_Angeles:20231021T120000
DTSTAMP:20260423T195426
CREATED:20231018T015813Z
LAST-MODIFIED:20231018T015813Z
UID:126940-1697882400-1697889600@www.saccountygop.com
SUMMARY:Walk It Off for Perez
DESCRIPTION:October 21st will be a busy day in Citrus Heights. \nOur endorsed Republican Candidate Manuel Perez will be at the Harvest Festival \nand SacCountyGOP Chair Betsy Mahan will host volunteers for coffee and donuts \nThen it’s time to Walk It Off! \n  \nJoin us for a few hours as we inform voters in Citrus Heights about the important Special Election for the San Juan School Board! \nPlease RSVP to Mike@SacCountyGOP.com so we know how many donuts to have ready! \n 
URL:https://www.saccountygop.com/calendar/walk-it-off-for-perez/
LOCATION:Master Donuts\, 7601 Sunrise Blvd.\, Citrus Heights\, California
CATEGORIES:23-24 Candidate Events,Events,School Districts
ATTACH;FMTTYPE=image/png:https://www.saccountygop.com/wp-content/uploads/2023/10/Join-Us-For-Donuts-Coffee-Oct-21.png
END:VEVENT
BEGIN:VEVENT
DTSTART;TZID=America/Los_Angeles:20231025T180000
DTEND;TZID=America/Los_Angeles:20231025T200000
DTSTAMP:20260423T195426
CREATED:20231006T192607Z
LAST-MODIFIED:20231006T192607Z
UID:126916-1698256800-1698264000@www.saccountygop.com
SUMMARY:Reception for Assemblyman Josh Hoover
DESCRIPTION:Please support our Assemblyman Josh Hoover at his last event of the year!  \n			\n				RSVP Here
URL:https://www.saccountygop.com/calendar/reception-for-assemblyman-josh-hoover/
LOCATION:Rudy’ Hideaway\, 12303 Folsom Blvd.\, Rancho Cordova\, California
CATEGORIES:23-24 Candidate Events,Events
ATTACH;FMTTYPE=image/png:https://www.saccountygop.com/wp-content/uploads/2023/10/Hoover-Events-header.png
END:VEVENT
END:VCALENDAR