BEGIN:VCALENDAR
VERSION:2.0
PRODID:-//Sacramento County Republican Party - ECPv6.15.20//NONSGML v1.0//EN
CALSCALE:GREGORIAN
METHOD:PUBLISH
X-ORIGINAL-URL:https://www.saccountygop.com
X-WR-CALDESC:Events for Sacramento County Republican Party
REFRESH-INTERVAL;VALUE=DURATION:PT1H
X-Robots-Tag:noindex
X-PUBLISHED-TTL:PT1H
BEGIN:VTIMEZONE
TZID:America/Los_Angeles
BEGIN:DAYLIGHT
TZOFFSETFROM:-0800
TZOFFSETTO:-0700
TZNAME:PDT
DTSTART:20220313T100000
END:DAYLIGHT
BEGIN:STANDARD
TZOFFSETFROM:-0700
TZOFFSETTO:-0800
TZNAME:PST
DTSTART:20221106T090000
END:STANDARD
BEGIN:DAYLIGHT
TZOFFSETFROM:-0800
TZOFFSETTO:-0700
TZNAME:PDT
DTSTART:20230312T100000
END:DAYLIGHT
BEGIN:STANDARD
TZOFFSETFROM:-0700
TZOFFSETTO:-0800
TZNAME:PST
DTSTART:20231105T090000
END:STANDARD
BEGIN:DAYLIGHT
TZOFFSETFROM:-0800
TZOFFSETTO:-0700
TZNAME:PDT
DTSTART:20240310T100000
END:DAYLIGHT
BEGIN:STANDARD
TZOFFSETFROM:-0700
TZOFFSETTO:-0800
TZNAME:PST
DTSTART:20241103T090000
END:STANDARD
END:VTIMEZONE
BEGIN:VEVENT
DTSTART;TZID=America/Los_Angeles:20230916T120000
DTEND;TZID=America/Los_Angeles:20230916T180000
DTSTAMP:20260423T141849
CREATED:20230911T163532Z
LAST-MODIFIED:20230911T163532Z
UID:126829-1694865600-1694887200@www.saccountygop.com
SUMMARY:Republican Booth at Fair Oaks Chicken Festival
DESCRIPTION:The Annual Fair Oaks Chicken Festival is a family-friendly event\, named for the beloved chickens that roam the Village in Fair Oaks. There will be live music\, food trucks\, craft booths\, a cornhole tournament\, and other contests! \nOf course\, the most important feature will be the SacCountyGOP Booth! Stop by and shop our patriotic swag\, learn about our endorsed candidates\, and find out how to work with us to make a difference in the next election!
URL:https://www.saccountygop.com/calendar/republican-booth-at-fair-oaks-chicken-festival/
LOCATION:Fair Oaks Park\, 11549 Fair Oaks Blvd.\, Fair Oaks\, California
CATEGORIES:Community Event,Events
ATTACH;FMTTYPE=image/png:https://www.saccountygop.com/wp-content/uploads/2023/09/Nothing-to-Crow-About-event-header.png
END:VEVENT
BEGIN:VEVENT
DTSTART;TZID=America/Los_Angeles:20230920T183000
DTEND;TZID=America/Los_Angeles:20230920T193000
DTSTAMP:20260423T141849
CREATED:20230819T230641Z
LAST-MODIFIED:20230920T165625Z
UID:126763-1695234600-1695238200@www.saccountygop.com
SUMMARY:September 2023 Central Committee Meeting
DESCRIPTION:About SacCountyGOP Meetings \nThe Sacramento County Republican Central Committee meetings are open to Committee Members\, Alternates\, and Associates with 25 open seats for invited guests. The agenda is set in advance by the SCRP Executive Committee. Since participation in the Committee meeting is reserved for Committee members only\, guests are encouraged to discuss their ideas in advance with a committee member (view the list of members)\, or to send their comments to info@saccountygop.com.\nNo recording devices are allowed during the meeting\, including phones. Photos/videos will be taken by representatives of the SacCountyGOP only. Thank you!\n			\n			\n				\n				\n				\n				\n				\n				\n				\n				\n				\n				The Sacramento County Republican Central Committee meets on the third Wednesday of the month. Meetings begin at 6:30pm. We do not hold meetings in July or December\, unless there is a special circumstance. \nRegistered Republicans in Sacramento County who registered to attend in advance will be admitted. Otherwise\, the meeting is closed to additional guests. \nOur featured speaker will be Ben Granholm of Swing Strategies. He will brief the Committee on recent ballot measure activities\, what we can expect for March\, and which measures are circulating petitions we might want to help. Committee Members will vote on a resolution to protect the current number of US Supreme Court Justices. View the “Keep Nine” proposed resolution. We will review timelines for candidates in the March Primary to register\, as well as an overview of activities at the upcoming CAGOP Fall Convention in Anaheim. There will also be an update on the status of district precinct walks and phone banks to reach new voters. \n			\n			\n				\n				\n				\n				\n			\n				\n				\n				\n				\n				\n				\n				\n				\n				\n				\n				What happened at the August meeting? \nThe Central Committee made the following endorsements: \n\nCD 3 – Hon. Kevin Kiley\nCD 6 – Hon. Craig DeLuz\nCD 7 – Thomas Silva\nAD 6 – Preston Romero\nAD 10 – Dr. Vinaya Singh\nSup 4 – Hon. Rosario Rodriguez\nSpecial Election in Natomas USD 4 – Monique Hokman\n\nCongressman Kiley gave a report on the latest news from Washington\, and all candidates under consideration for endorsement had an opportunity to address the Committee prior to the vote. \nBarbara Sloan thanked the CA State Fair volunteers and announced upcoming events in September and October\, including: \n\nAug. 23 Presidential Primary Watch Party at SacCountyGOP Hdqrts\nSept. 16 Fair Oaks Chicken Festival\nSept. 24 Citrus Heights Sunday Funday\nOct. 7-8 Elk Grove Giant Pumpkin Festival
URL:https://www.saccountygop.com/calendar/september-2023-central-committee-meeting/
LOCATION:Sacramento Gun Club\, 3443 Routier Road\, Sacramento\, 95827\, United States
CATEGORIES:SCRP
ATTACH;FMTTYPE=image/png:https://www.saccountygop.com/wp-content/uploads/2017/02/MonthlyMtg-Feature-2.png
END:VEVENT
BEGIN:VEVENT
DTSTART;TZID=America/Los_Angeles:20230924T110000
DTEND;TZID=America/Los_Angeles:20230924T150000
DTSTAMP:20260423T141849
CREATED:20230917T185054Z
LAST-MODIFIED:20230917T185054Z
UID:126840-1695553200-1695567600@www.saccountygop.com
SUMMARY:Republican Booth at the Citrus Heights Sunday Funday
DESCRIPTION:Come join the fun at this free\, family-friendly event in Rusch Community Park. There will be games for the kids\, music\, K-9 demonstrations\, food trucks\, and of course the SacCountyGOP booth! \nStop by and say hi! 
URL:https://www.saccountygop.com/calendar/republican-booth-at-the-citrus-heights-sunday-funday/
LOCATION:Rusch Community Park\, 7801 Auburn Blvd\, Citrus Heights\, CA
CATEGORIES:Community Event,Events
ATTACH;FMTTYPE=image/png:https://www.saccountygop.com/wp-content/uploads/2023/09/Event-Logo.png
END:VEVENT
BEGIN:VEVENT
DTSTART;TZID=America/Los_Angeles:20230929T120000
DTEND;TZID=America/Los_Angeles:20231001T130000
DTSTAMP:20260423T141849
CREATED:20230802T180345Z
LAST-MODIFIED:20231002T165404Z
UID:126706-1695988800-1696165200@www.saccountygop.com
SUMMARY:CAGOP Fall Convention 2023
DESCRIPTION:The 2023 CAGOP Fall Convention has concluded after a spirited gathering that featured four Presidential candidates. \nRead the Committee Reports.
URL:https://www.saccountygop.com/calendar/cagop-fall-convention-2023/
LOCATION:Anaheim Marriott\, 700 West Convention Way\, Anaheim\, California
CATEGORIES:CAGOP,Events
ATTACH;FMTTYPE=image/png:https://www.saccountygop.com/wp-content/uploads/2023/08/Fall-Convention-header.png
END:VEVENT
END:VCALENDAR