BEGIN:VCALENDAR
VERSION:2.0
PRODID:-//Sacramento County Republican Party - ECPv6.15.20//NONSGML v1.0//EN
CALSCALE:GREGORIAN
METHOD:PUBLISH
X-WR-CALNAME:Sacramento County Republican Party
X-ORIGINAL-URL:https://www.saccountygop.com
X-WR-CALDESC:Events for Sacramento County Republican Party
REFRESH-INTERVAL;VALUE=DURATION:PT1H
X-Robots-Tag:noindex
X-PUBLISHED-TTL:PT1H
BEGIN:VTIMEZONE
TZID:America/Los_Angeles
BEGIN:DAYLIGHT
TZOFFSETFROM:-0800
TZOFFSETTO:-0700
TZNAME:PDT
DTSTART:20250309T100000
END:DAYLIGHT
BEGIN:STANDARD
TZOFFSETFROM:-0700
TZOFFSETTO:-0800
TZNAME:PST
DTSTART:20251102T090000
END:STANDARD
BEGIN:DAYLIGHT
TZOFFSETFROM:-0800
TZOFFSETTO:-0700
TZNAME:PDT
DTSTART:20260308T100000
END:DAYLIGHT
BEGIN:STANDARD
TZOFFSETFROM:-0700
TZOFFSETTO:-0800
TZNAME:PST
DTSTART:20261101T090000
END:STANDARD
BEGIN:DAYLIGHT
TZOFFSETFROM:-0800
TZOFFSETTO:-0700
TZNAME:PDT
DTSTART:20270314T100000
END:DAYLIGHT
BEGIN:STANDARD
TZOFFSETFROM:-0700
TZOFFSETTO:-0800
TZNAME:PST
DTSTART:20271107T090000
END:STANDARD
END:VTIMEZONE
BEGIN:VEVENT
DTSTART;TZID=America/Los_Angeles:20260408T183000
DTEND;TZID=America/Los_Angeles:20260408T193000
DTSTAMP:20260425T060553
CREATED:20260326T144224Z
LAST-MODIFIED:20260326T174921Z
UID:130582-1775673000-1775676600@www.saccountygop.com
SUMMARY:April 2026 Central Committee Meeting
DESCRIPTION:The Sacramento County Republican Central Committee meets on the second Wednesday of the month. Meetings begin at 6:30pm. We do not hold meetings in July or December\, unless there is a special need. \nAll registered Republicans who live in Sacramento County are welcome to attend the Committee meeting as guests\, and may observe\, but not participate in the proceedings. In order to confirm registration status\, advance sign up is appreciated but not required\, and no registered Republican in good standing who resides within the County will be turned away unless the meeting room has reached occupant capacity. Guests may request to attend by email: info@saccountygop.com.   \n			\n			\n				\n				\n				\n				\n				\n				\n				\n				\n				\n				\n			\n				\n				\n				\n				\n				About SacCountyGOP Meetings \nThe Sacramento County Republican Central Committee meetings are open to Committee Members\, Alternates\, and Associates with some open seats for Sacramento County registered Republicans in good standing. Since participation in the Committee meeting is reserved for Committee members or their Alternates\, guests are encouraged to discuss their ideas in advance with a committee member (view the list of members)\, or to send their comments to info@saccountygop.com.\nMeetings are held at: Sacramento County Republican Party HQ\, 9851 Horn Road\, Sacramento\, CA 95827\nNo video/audio recording is allowed during the meeting\, including on phones. Photos/videos will be taken by representatives of the SacCountyGOP only. Thank you!
URL:https://www.saccountygop.com/calendar/april-2026-central-committee-meeting/
LOCATION:SCRP Headquarters\, 9851 Horn Road\, Ste. 100\, Sacramento\, 95827\, United States
CATEGORIES:Events
ATTACH;FMTTYPE=image/png:https://www.saccountygop.com/wp-content/uploads/2026/02/Meeting-Header.png
END:VEVENT
BEGIN:VEVENT
DTSTART;TZID=America/Los_Angeles:20260428T173000
DTEND;TZID=America/Los_Angeles:20260428T193000
DTSTAMP:20260425T060553
CREATED:20260425T105923Z
LAST-MODIFIED:20260425T110215Z
UID:130635-1777397400-1777404600@www.saccountygop.com
SUMMARY:Gubernatorial Debate Watch Party
DESCRIPTION:Come join friends and the Sac GOP for the gubernatorial debate next Tuesday night at Brookside Restaurant! Support your favorite candidate! Enjoy food and drinks at Brookside\, one of our Republican-friendly restaurants\, starting at 4:30pm. Spread the word and let’s make this a great night of GOP fun!
URL:https://www.saccountygop.com/calendar/gubernatorial-debate-watch-party/
LOCATION:Brookside Restaurant\, 9819 Horn Road\, Sacramento
CATEGORIES:Events,Watch Party
ATTACH;FMTTYPE=image/png:https://www.saccountygop.com/wp-content/uploads/2026/04/1777098891901blob.png
END:VEVENT
BEGIN:VEVENT
DTSTART;TZID=America/Los_Angeles:20260504T173000
DTEND;TZID=America/Los_Angeles:20260504T200000
DTSTAMP:20260425T060553
CREATED:20260425T110907Z
LAST-MODIFIED:20260425T110907Z
UID:130641-1777915800-1777924800@www.saccountygop.com
SUMMARY:
DESCRIPTION:Please come out and support the Sac GOP endorsed candidates Chad Bianco and Sonja Shaw in Sacramento on May 4\, 2026.\n\nThis is a FREE event and a great opportunity to meet two of the next leaders in California government.\n\nRSVP via the QR code on the flyer. The event is near Watt x Marconi and the specific address will be supplied upon RSVP.\n\nP.S. May the Fourth will be with you. Where will you be on May Fourth?
URL:https://www.saccountygop.com/calendar/130641/
LOCATION:To Be Announced\, Sacramento County Location
CATEGORIES:Events
ATTACH;FMTTYPE=image/png:https://www.saccountygop.com/wp-content/uploads/2026/04/Blue__Re1-1.png
END:VEVENT
BEGIN:VEVENT
DTSTART;TZID=America/Los_Angeles:20260506T173000
DTEND;TZID=America/Los_Angeles:20260506T210000
DTSTAMP:20260425T060553
CREATED:20260328T160412Z
LAST-MODIFIED:20260425T110323Z
UID:130609-1778088600-1778101200@www.saccountygop.com
SUMMARY:Gold River Candidate Meet & Greet
DESCRIPTION:
URL:https://www.saccountygop.com/calendar/130609/
LOCATION:Gold River Community Center\, 11715 Gold Country Blvd.\, Gold River\, CA\, United States
CATEGORIES:2026 Election,Events
ATTACH;FMTTYPE=image/jpeg:https://www.saccountygop.com/wp-content/uploads/2026/03/Gold-River-Candidate-Meet-and-Greet.jpeg
END:VEVENT
BEGIN:VEVENT
DTSTART;TZID=America/Los_Angeles:20260513T183000
DTEND;TZID=America/Los_Angeles:20260513T183000
DTSTAMP:20260425T060553
CREATED:20260425T122714Z
LAST-MODIFIED:20260425T122856Z
UID:130661-1778697000-1778697000@www.saccountygop.com
SUMMARY:May 2026 Central Committee Meeting
DESCRIPTION:The Sacramento County Republican Central Committee meets on the second Wednesday of the month. Meetings begin at 6:30pm. We do not hold meetings in July or December\, unless there is a special need. \nAll registered Republicans who live in Sacramento County are welcome to attend the Committee meeting as guests\, and may observe\, but not participate in the proceedings. In order to confirm registration status\, advance sign up is appreciated but not required\, and no registered Republican in good standing who resides within the County will be turned away unless the meeting room has reached occupant capacity. Guests may request to attend by email: info@saccountygop.com.   \n			\n			\n				\n				\n				\n				\n				\n				\n				\n				\n				\n				\n			\n				\n				\n				\n				\n				About SacCountyGOP Meetings \nThe Sacramento County Republican Central Committee meetings are open to Committee Members\, Alternates\, and Associates with some open seats for Sacramento County registered Republicans in good standing. Since participation in the Committee meeting is reserved for Committee members or their Alternates\, guests are encouraged to discuss their ideas in advance with a committee member (view the list of members)\, or to send their comments to info@saccountygop.com.\nMeetings are held at: Sacramento County Republican Party HQ\, 9851 Horn Road\, Sacramento\, CA 95827\nNo video/audio recording is allowed during the meeting\, including on phones. Photos/videos will be taken by representatives of the SacCountyGOP only. Thank you!
URL:https://www.saccountygop.com/calendar/may-2026-central-committee-meeting/
LOCATION:SCRP Headquarters\, 9851 Horn Road\, Ste. 100\, Sacramento\, 95827\, United States
CATEGORIES:Events,SCRP
ATTACH;FMTTYPE=image/png:https://www.saccountygop.com/wp-content/uploads/2026/02/Meeting-Header.png
END:VEVENT
END:VCALENDAR