BEGIN:VCALENDAR
VERSION:2.0
PRODID:-//Sacramento County Republican Party - ECPv6.15.20//NONSGML v1.0//EN
CALSCALE:GREGORIAN
METHOD:PUBLISH
X-ORIGINAL-URL:https://www.saccountygop.com
X-WR-CALDESC:Events for Sacramento County Republican Party
REFRESH-INTERVAL;VALUE=DURATION:PT1H
X-Robots-Tag:noindex
X-PUBLISHED-TTL:PT1H
BEGIN:VTIMEZONE
TZID:America/Los_Angeles
BEGIN:DAYLIGHT
TZOFFSETFROM:-0800
TZOFFSETTO:-0700
TZNAME:PDT
DTSTART:20250309T100000
END:DAYLIGHT
BEGIN:STANDARD
TZOFFSETFROM:-0700
TZOFFSETTO:-0800
TZNAME:PST
DTSTART:20251102T090000
END:STANDARD
BEGIN:DAYLIGHT
TZOFFSETFROM:-0800
TZOFFSETTO:-0700
TZNAME:PDT
DTSTART:20260308T100000
END:DAYLIGHT
BEGIN:STANDARD
TZOFFSETFROM:-0700
TZOFFSETTO:-0800
TZNAME:PST
DTSTART:20261101T090000
END:STANDARD
BEGIN:DAYLIGHT
TZOFFSETFROM:-0800
TZOFFSETTO:-0700
TZNAME:PDT
DTSTART:20270314T100000
END:DAYLIGHT
BEGIN:STANDARD
TZOFFSETFROM:-0700
TZOFFSETTO:-0800
TZNAME:PST
DTSTART:20271107T090000
END:STANDARD
END:VTIMEZONE
BEGIN:VEVENT
DTSTART;TZID=America/Los_Angeles:20260504T173000
DTEND;TZID=America/Los_Angeles:20260504T200000
DTSTAMP:20260425T041945
CREATED:20260425T110907Z
LAST-MODIFIED:20260425T110907Z
UID:130641-1777915800-1777924800@www.saccountygop.com
SUMMARY:
DESCRIPTION:Please come out and support the Sac GOP endorsed candidates Chad Bianco and Sonja Shaw in Sacramento on May 4\, 2026.\n\nThis is a FREE event and a great opportunity to meet two of the next leaders in California government.\n\nRSVP via the QR code on the flyer. The event is near Watt x Marconi and the specific address will be supplied upon RSVP.\n\nP.S. May the Fourth will be with you. Where will you be on May Fourth?
URL:https://www.saccountygop.com/calendar/130641/
LOCATION:To Be Announced\, Sacramento County Location
CATEGORIES:Events
ATTACH;FMTTYPE=image/png:https://www.saccountygop.com/wp-content/uploads/2026/04/Blue__Re1-1.png
END:VEVENT
BEGIN:VEVENT
DTSTART;TZID=America/Los_Angeles:20260506T173000
DTEND;TZID=America/Los_Angeles:20260506T210000
DTSTAMP:20260425T041945
CREATED:20260328T160412Z
LAST-MODIFIED:20260425T110323Z
UID:130609-1778088600-1778101200@www.saccountygop.com
SUMMARY:Gold River Candidate Meet & Greet
DESCRIPTION:
URL:https://www.saccountygop.com/calendar/130609/
LOCATION:Gold River Community Center\, 11715 Gold Country Blvd.\, Gold River\, CA\, United States
CATEGORIES:2026 Election,Events
ATTACH;FMTTYPE=image/jpeg:https://www.saccountygop.com/wp-content/uploads/2026/03/Gold-River-Candidate-Meet-and-Greet.jpeg
END:VEVENT
END:VCALENDAR