BEGIN:VCALENDAR
VERSION:2.0
PRODID:-//Sacramento County Republican Party - ECPv6.15.20//NONSGML v1.0//EN
CALSCALE:GREGORIAN
METHOD:PUBLISH
X-ORIGINAL-URL:https://www.saccountygop.com
X-WR-CALDESC:Events for Sacramento County Republican Party
REFRESH-INTERVAL;VALUE=DURATION:PT1H
X-Robots-Tag:noindex
X-PUBLISHED-TTL:PT1H
BEGIN:VTIMEZONE
TZID:America/Los_Angeles
BEGIN:DAYLIGHT
TZOFFSETFROM:-0800
TZOFFSETTO:-0700
TZNAME:PDT
DTSTART:20190310T100000
END:DAYLIGHT
BEGIN:STANDARD
TZOFFSETFROM:-0700
TZOFFSETTO:-0800
TZNAME:PST
DTSTART:20191103T090000
END:STANDARD
BEGIN:DAYLIGHT
TZOFFSETFROM:-0800
TZOFFSETTO:-0700
TZNAME:PDT
DTSTART:20200308T100000
END:DAYLIGHT
BEGIN:STANDARD
TZOFFSETFROM:-0700
TZOFFSETTO:-0800
TZNAME:PST
DTSTART:20201101T090000
END:STANDARD
BEGIN:DAYLIGHT
TZOFFSETFROM:-0800
TZOFFSETTO:-0700
TZNAME:PDT
DTSTART:20210314T100000
END:DAYLIGHT
BEGIN:STANDARD
TZOFFSETFROM:-0700
TZOFFSETTO:-0800
TZNAME:PST
DTSTART:20211107T090000
END:STANDARD
BEGIN:DAYLIGHT
TZOFFSETFROM:-0800
TZOFFSETTO:-0700
TZNAME:PDT
DTSTART:20220313T100000
END:DAYLIGHT
BEGIN:STANDARD
TZOFFSETFROM:-0700
TZOFFSETTO:-0800
TZNAME:PST
DTSTART:20221106T090000
END:STANDARD
BEGIN:DAYLIGHT
TZOFFSETFROM:-0800
TZOFFSETTO:-0700
TZNAME:PDT
DTSTART:20230312T100000
END:DAYLIGHT
BEGIN:STANDARD
TZOFFSETFROM:-0700
TZOFFSETTO:-0800
TZNAME:PST
DTSTART:20231105T090000
END:STANDARD
BEGIN:DAYLIGHT
TZOFFSETFROM:-0800
TZOFFSETTO:-0700
TZNAME:PDT
DTSTART:20240310T100000
END:DAYLIGHT
BEGIN:STANDARD
TZOFFSETFROM:-0700
TZOFFSETTO:-0800
TZNAME:PST
DTSTART:20241103T090000
END:STANDARD
BEGIN:DAYLIGHT
TZOFFSETFROM:-0800
TZOFFSETTO:-0700
TZNAME:PDT
DTSTART:20250309T100000
END:DAYLIGHT
BEGIN:STANDARD
TZOFFSETFROM:-0700
TZOFFSETTO:-0800
TZNAME:PST
DTSTART:20251102T090000
END:STANDARD
BEGIN:DAYLIGHT
TZOFFSETFROM:-0800
TZOFFSETTO:-0700
TZNAME:PDT
DTSTART:20260308T100000
END:DAYLIGHT
BEGIN:STANDARD
TZOFFSETFROM:-0700
TZOFFSETTO:-0800
TZNAME:PST
DTSTART:20261101T090000
END:STANDARD
END:VTIMEZONE
BEGIN:VEVENT
DTSTART;TZID=America/Los_Angeles:20250304T170000
DTEND;TZID=America/Los_Angeles:20250304T193000
DTSTAMP:20260423T150307
CREATED:20250227T205215Z
LAST-MODIFIED:20250227T205215Z
UID:129623-1741107600-1741116600@www.saccountygop.com
SUMMARY:Trump Address to Congress Watch Party
DESCRIPTION:Tuesday\, March 4th\nTrump Address to the Joint Session of Congress\nWatch Party\nBrookside Restaurant\n9819 Horn Road\, Rancho Cordova \n5pm – Arrive early to secure a seat and order no-host food and drinks\n6pm – Address begins \nNo need to RSVP – Just join us!
URL:https://www.saccountygop.com/calendar/trump-address-to-congress-watch-party/
LOCATION:Brookside Restaurant\, 9819 Horn Road\, Sacramento
CATEGORIES:Events,Watch Party
ATTACH;FMTTYPE=image/png:https://www.saccountygop.com/wp-content/uploads/2025/02/March-4-Watch-Party-for-Trump-Address-header.png
END:VEVENT
BEGIN:VEVENT
DTSTART;TZID=America/Los_Angeles:20240627T173000
DTEND;TZID=America/Los_Angeles:20240627T193000
DTSTAMP:20260423T150307
CREATED:20240518T060442Z
LAST-MODIFIED:20240624T231336Z
UID:128081-1719509400-1719516600@www.saccountygop.com
SUMMARY:Debate Watch Party
DESCRIPTION:Gather with friends and cheer for President Trump!\nSacCountyGOP is hosting a Debate Watch Party & Potluck! \nBring your favorite dish to share and an adult beverage if you want more than water or soda. \nOur room is at capacity! \nWe look forward to seeing everyone who RSVP’d on Thursday! \nPlease arrive by 5:30pm – Debate starts at 6pm\n\n			\n				\n				\n				\n				\n				As reported in the Epoch Times: \nCNN has announced new details of its finalized rules for the first presidential debate of the 2024 election cycle. \nThe network revealed on June 15 that the debate will last 90 minutes and will include two commercial breaks\, during which the candidates will not be able to interact with their respective campaign staff. \nNo pre-written notes or props will be allowed\, but the candidates will have a pen and paper so they can take notes during the debate. \nThe candidates will appear at a uniform podium\, with a coin flip to determine their podium positions. \nThere will be no studio audience for the debate\, which will be held in Atlanta on June 27. \nThe debate will be moderated by CNN’s Jake Tapper and Dana Bash. \nCNN also said that a condition for participation in the debate is that the candidates must obtain at least 15 percent in four separate national polls from a list provided by the network\, and that they must appear on a sufficient number of state ballots to be able to reach the 270 electoral vote threshold needed for a candidate to win the race for the White House. \nThe network said it’s “not impossible” for independent presidential candidate Robert F. Kennedy Jr. to meet these conditions.
URL:https://www.saccountygop.com/calendar/debate-watch-party/
LOCATION:SCRP Headquarters\, 9851 Horn Road\, Ste. 100\, Sacramento\, 95827\, United States
CATEGORIES:2024 Election,Events,Watch Party
ATTACH;FMTTYPE=image/png:https://www.saccountygop.com/wp-content/uploads/2024/05/Watch-Party-header.png
END:VEVENT
BEGIN:VEVENT
DTSTART;TZID=America/Los_Angeles:20230823T180000
DTEND;TZID=America/Los_Angeles:20230823T200000
DTSTAMP:20260423T150307
CREATED:20230802T063103Z
LAST-MODIFIED:20230820T024725Z
UID:126702-1692813600-1692820800@www.saccountygop.com
SUMMARY:GOP Presidential Debate Watch Party
DESCRIPTION:If you were one of our fabulous volunteers at this year’s State Fairor if you’re a current recurring donor in our 1776 Club\nYou’re invited to attend this Watch Party as our guest!\nPlease use the link below to RSVP\, so we know you’re coming! \nFor those who did not volunteer at the Fair\, we request a $20 donation to cover our costs for pizza and libations. \n			\n				RSVP for August 23rd Watch Party
URL:https://www.saccountygop.com/calendar/gop-presidential-debate-watch-party/
LOCATION:SCRP Headquarters\, 9851 Horn Road\, Ste. 100\, Sacramento\, 95827\, United States
CATEGORIES:Events,Watch Party
ATTACH;FMTTYPE=image/png:https://www.saccountygop.com/wp-content/uploads/2023/08/Republican-Primary-Presidental-Debate-Watch-Party-Aug-23-header-2.png
END:VEVENT
BEGIN:VEVENT
DTSTART;TZID=America/Los_Angeles:20221023T130000
DTEND;TZID=America/Los_Angeles:20221023T150000
DTSTAMP:20260423T150307
CREATED:20221006T162631Z
LAST-MODIFIED:20221021T182523Z
UID:125251-1666530000-1666537200@www.saccountygop.com
SUMMARY:Governor Debate Watch Party
DESCRIPTION:Come cheer on Republican Senator Brian Dahle as he holds Gavin Newsom accountable for the dismal quality of life in California. \nThe debate will be moderated by KQED senior politics editor Scott Shafer and KQED politics correspondent Marisa Lagos\, who also are co-hosts of Political Breakdown. This is the only debate that Newsom and Dahle will participate in before voters choose a governor to lead the state. \nDoors open at SacCountyGOP Headquarters at 12:30pm – Debate begins live streaming at 1pmSuggested Donation $20 per person; $25 per couple (Members of the 1776 Club are Free!) \nWe’ll have pizza and non-alcoholic beverages – and you can bring anything else you’d like to consume. \n			\n				RSVP for the Debate Watch Party
URL:https://www.saccountygop.com/calendar/governor-debate-watch-party/
LOCATION:SCRP Headquarters\, 9851 Horn Road\, Ste. 100\, Sacramento\, 95827\, United States
CATEGORIES:Events,Watch Party
ATTACH;FMTTYPE=image/png:https://www.saccountygop.com/wp-content/uploads/2022/10/Dahle-vs-Newsom-Debate-1.png
END:VEVENT
BEGIN:VEVENT
DTSTART;TZID=America/Los_Angeles:20211009T170000
DTEND;TZID=America/Los_Angeles:20211009T200000
DTSTAMP:20260423T150307
CREATED:20210927T165631Z
LAST-MODIFIED:20211001T155548Z
UID:123201-1633798800-1633809600@www.saccountygop.com
SUMMARY:Trump Rally Watch Party for Volunteers & Donors
DESCRIPTION:All SacCountyGOP Volunteers\, Observers & Donors\nduring the Recall Election\nare invited to attend as our guests!\nPresident Trump will be live from Des Moines Iowa\nSacCountyGOP appreciates those of you who stepped up to volunteer\, observe/work the election process\, and donate during the Recall Election. You will receive an invitation by email if you are on the invite list. \nGuests and others are also welcome at a cost of $20 per person \nDoors open at 5pm – Rally starts at 6pm \nSpace will be limited so RSVP is required: Call (916) 822-5618 or Register online. \n  \n 
URL:https://www.saccountygop.com/calendar/trump-rally-watch-party-for-volunteers-donors/
LOCATION:SCRP Headquarters\, 9851 Horn Road\, Ste. 100\, Sacramento\, 95827\, United States
CATEGORIES:Events,Watch Party
ATTACH;FMTTYPE=image/png:https://www.saccountygop.com/wp-content/uploads/2021/09/Rally-event-header.png
END:VEVENT
BEGIN:VEVENT
DTSTART;TZID=America/Los_Angeles:20200827T170000
DTEND;TZID=America/Los_Angeles:20200827T203000
DTSTAMP:20260423T150307
CREATED:20200814T054921Z
LAST-MODIFIED:20200826T192334Z
UID:120266-1598547600-1598560200@www.saccountygop.com
SUMMARY:Trump Acceptance Speech Virtual Watch Party
DESCRIPTION:RNC Convention 2020 \nVirtual Watch Party!\nDonald J. Trump Acceptance Speech\nThursday\, August 27\, 2020\nStart Time: 5pm \nVia Zoom\nSign up to receive the access details. \n			\n				Register for the Watch Party
URL:https://www.saccountygop.com/calendar/trump-acceptance-speech-watch-party/
LOCATION:Via Zoom
CATEGORIES:Events,Watch Party
ATTACH;FMTTYPE=image/jpeg:https://www.saccountygop.com/wp-content/uploads/2020/08/White-House-Feature-2.jpg
END:VEVENT
BEGIN:VEVENT
DTSTART;TZID=America/Los_Angeles:20200620T163000
DTEND;TZID=America/Los_Angeles:20200620T183000
DTSTAMP:20260423T150307
CREATED:20200614T185652Z
LAST-MODIFIED:20200620T173029Z
UID:119894-1592670600-1592677800@www.saccountygop.com
SUMMARY:Watch Party - Rally in Tulsa
DESCRIPTION:All those who have pre-registered may join with other supporters of President Trump’s re-election at SacCountyGOP Headquarters as we watch his first rally since the Primary Election\, live from Tulsa Oklahoma! \nPizza and soft drinks will be ready at 4:30pm and the Rally begins at 5:00pm. \nFeel free to bring your own adult beverages. Merchandise will be available\, including Trump yard signs! \nGuests must be registered to attend. 
URL:https://www.saccountygop.com/calendar/watch-party-rally-in-tulsa/
LOCATION:SCRP Headquarters\, 9851 Horn Road\, Ste. 100\, Sacramento\, 95827\, United States
CATEGORIES:Events,Watch Party
ATTACH;FMTTYPE=image/png:https://www.saccountygop.com/wp-content/uploads/2020/06/Trump-Rally-Watch-Party-Event-Feature.png
END:VEVENT
END:VCALENDAR