BEGIN:VCALENDAR
VERSION:2.0
PRODID:-//Sacramento County Republican Party - ECPv6.15.20//NONSGML v1.0//EN
CALSCALE:GREGORIAN
METHOD:PUBLISH
X-ORIGINAL-URL:https://www.saccountygop.com
X-WR-CALDESC:Events for Sacramento County Republican Party
REFRESH-INTERVAL;VALUE=DURATION:PT1H
X-Robots-Tag:noindex
X-PUBLISHED-TTL:PT1H
BEGIN:VTIMEZONE
TZID:America/Los_Angeles
BEGIN:DAYLIGHT
TZOFFSETFROM:-0800
TZOFFSETTO:-0700
TZNAME:PDT
DTSTART:20210314T100000
END:DAYLIGHT
BEGIN:STANDARD
TZOFFSETFROM:-0700
TZOFFSETTO:-0800
TZNAME:PST
DTSTART:20211107T090000
END:STANDARD
BEGIN:DAYLIGHT
TZOFFSETFROM:-0800
TZOFFSETTO:-0700
TZNAME:PDT
DTSTART:20220313T100000
END:DAYLIGHT
BEGIN:STANDARD
TZOFFSETFROM:-0700
TZOFFSETTO:-0800
TZNAME:PST
DTSTART:20221106T090000
END:STANDARD
BEGIN:DAYLIGHT
TZOFFSETFROM:-0800
TZOFFSETTO:-0700
TZNAME:PDT
DTSTART:20230312T100000
END:DAYLIGHT
BEGIN:STANDARD
TZOFFSETFROM:-0700
TZOFFSETTO:-0800
TZNAME:PST
DTSTART:20231105T090000
END:STANDARD
END:VTIMEZONE
BEGIN:VEVENT
DTSTART;TZID=America/Los_Angeles:20220216T183000
DTEND;TZID=America/Los_Angeles:20220216T200000
DTSTAMP:20260421T080801
CREATED:20220124T203210Z
LAST-MODIFIED:20220210T014052Z
UID:123882-1645036200-1645041600@www.saccountygop.com
SUMMARY:February 2022 Central Committee Meeting
DESCRIPTION:About SacCountyGOP Meetings \nThe Sacramento County Republican Central Committee meetings are currently open to Committee Members\, Alternates\, and Associates with 25 open seats for registered guests. The agenda is set in advance by the SCRP Executive Committee. Since participation in the Committee meeting is reserved for Committee members only\, guests are encouraged to discuss their ideas in advance with a committee member (view the list of members)\, or to send their comments to info@saccountygop.com.\nNo recording devices are allowed during the meeting\, including phones. Photos/videos will be taken by representatives of the SacCountyGOP only. Thank you!\n			\n			\n				\n				\n				\n				\n				\n				\n				\n				\n				\n				The Sacramento County Republican Central Committee meets on the third Wednesday of the month. Meetings now begin at 6:30pm since our venue closes at 8pm. \nSacramento County Republicans who registered in advance will be admitted as guests. Names were accepted on a first-come-first-served basis\, and the meeting is now at capacity. \nThe agenda will include hearing from GOP candidates for Congress\, Legislature\, and local offices running in the June 2022 election. The Executive Committee will submit a slate of recommended endorsements\, and a two-thirds majority vote of Committee members is required to endorse. 
URL:https://www.saccountygop.com/calendar/february-2022-central-committee-meeting/
LOCATION:Sacramento Gun Club\, 3443 Routier Road\, Sacramento\, 95827\, United States
CATEGORIES:SCRP
ATTACH;FMTTYPE=image/png:https://www.saccountygop.com/wp-content/uploads/2017/02/MonthlyMtg-Feature-2.png
END:VEVENT
END:VCALENDAR