BEGIN:VCALENDAR
VERSION:2.0
PRODID:-//Sacramento County Republican Party - ECPv6.15.20//NONSGML v1.0//EN
CALSCALE:GREGORIAN
METHOD:PUBLISH
X-ORIGINAL-URL:https://www.saccountygop.com
X-WR-CALDESC:Events for Sacramento County Republican Party
REFRESH-INTERVAL;VALUE=DURATION:PT1H
X-Robots-Tag:noindex
X-PUBLISHED-TTL:PT1H
BEGIN:VTIMEZONE
TZID:America/Los_Angeles
BEGIN:DAYLIGHT
TZOFFSETFROM:-0800
TZOFFSETTO:-0700
TZNAME:PDT
DTSTART:20200308T100000
END:DAYLIGHT
BEGIN:STANDARD
TZOFFSETFROM:-0700
TZOFFSETTO:-0800
TZNAME:PST
DTSTART:20201101T090000
END:STANDARD
BEGIN:DAYLIGHT
TZOFFSETFROM:-0800
TZOFFSETTO:-0700
TZNAME:PDT
DTSTART:20210314T100000
END:DAYLIGHT
BEGIN:STANDARD
TZOFFSETFROM:-0700
TZOFFSETTO:-0800
TZNAME:PST
DTSTART:20211107T090000
END:STANDARD
BEGIN:DAYLIGHT
TZOFFSETFROM:-0800
TZOFFSETTO:-0700
TZNAME:PDT
DTSTART:20220313T100000
END:DAYLIGHT
BEGIN:STANDARD
TZOFFSETFROM:-0700
TZOFFSETTO:-0800
TZNAME:PST
DTSTART:20221106T090000
END:STANDARD
END:VTIMEZONE
BEGIN:VEVENT
DTSTART;TZID=America/Los_Angeles:20211218T100000
DTEND;TZID=America/Los_Angeles:20211218T140000
DTSTAMP:20260421T101713
CREATED:20211123T232342Z
LAST-MODIFIED:20211123T232342Z
UID:123617-1639821600-1639836000@www.saccountygop.com
SUMMARY:Open House
DESCRIPTION:Stop by the SacCountyGOP Headquarters on Saturday\, December 18 for some Christmas Cheer and a little Shopping!\nWe have a HUGE assortment of fun gifts for your conservative friends and family members.Where else can you find Trump Playing Cards? Or Let’s Go Brandon shirts and hats? \nWe’re also collecting socks for the homeless through the CAGOP’s Winter Warmup Sock Drive – honoring the memory of their beloved friend and colleague Mike Escoto\, who left us all too soon! \nWe’ll be waiting for you to stop by between 10am and 2pm with some hot cider and cookies!
URL:https://www.saccountygop.com/calendar/open-house/
LOCATION:SCRP Headquarters\, 9851 Horn Road\, Ste. 100\, Sacramento\, 95827\, United States
CATEGORIES:Events,SCRP
ATTACH;FMTTYPE=image/png:https://www.saccountygop.com/wp-content/uploads/2021/11/Dec-18-Open-House-header.png
END:VEVENT
END:VCALENDAR