BEGIN:VCALENDAR
VERSION:2.0
PRODID:-//Sacramento County Republican Party - ECPv6.15.20//NONSGML v1.0//EN
CALSCALE:GREGORIAN
METHOD:PUBLISH
X-WR-CALNAME:Sacramento County Republican Party
X-ORIGINAL-URL:https://www.saccountygop.com
X-WR-CALDESC:Events for Sacramento County Republican Party
REFRESH-INTERVAL;VALUE=DURATION:PT1H
X-Robots-Tag:noindex
X-PUBLISHED-TTL:PT1H
BEGIN:VTIMEZONE
TZID:America/Los_Angeles
BEGIN:DAYLIGHT
TZOFFSETFROM:-0800
TZOFFSETTO:-0700
TZNAME:PDT
DTSTART:20200308T100000
END:DAYLIGHT
BEGIN:STANDARD
TZOFFSETFROM:-0700
TZOFFSETTO:-0800
TZNAME:PST
DTSTART:20201101T090000
END:STANDARD
BEGIN:DAYLIGHT
TZOFFSETFROM:-0800
TZOFFSETTO:-0700
TZNAME:PDT
DTSTART:20210314T100000
END:DAYLIGHT
BEGIN:STANDARD
TZOFFSETFROM:-0700
TZOFFSETTO:-0800
TZNAME:PST
DTSTART:20211107T090000
END:STANDARD
BEGIN:DAYLIGHT
TZOFFSETFROM:-0800
TZOFFSETTO:-0700
TZNAME:PDT
DTSTART:20220313T100000
END:DAYLIGHT
BEGIN:STANDARD
TZOFFSETFROM:-0700
TZOFFSETTO:-0800
TZNAME:PST
DTSTART:20221106T090000
END:STANDARD
END:VTIMEZONE
BEGIN:VEVENT
DTSTART;TZID=America/Los_Angeles:20211202T173000
DTEND;TZID=America/Los_Angeles:20211202T200000
DTSTAMP:20260421T095034
CREATED:20211012T215217Z
LAST-MODIFIED:20211202T024511Z
UID:123343-1638466200-1638475200@www.saccountygop.com
SUMMARY:SacCountyGOP Holiday Reception
DESCRIPTION:Thursday\, December 2nd\n5:30pm VIP Reception | 6:00pm General Reception & ProgramTaking place at a Fabulous Private Residence in Folsom!\nAddress Provided Upon RSVP \nHost CommitteeHon. Kevin Kiley | Hon. Rosario Rodriguez | Hon. Josh HooverSandy & Todd DeKreek | Karena Moy | Betsy Mahan | Tanya Morales\nMajor SponsorsSandy & Todd DeKreek | Supervisor Sue Frost | Sheriff Scott JonesLeyla & Scott Jaworski | The Mahan Family | Jon & Barbara Sloan\nEvent SupportersJohn Arnaz | Christian Forte | Tanya Morales | Karena MoyAnna & Carter Rohrbough\nEmceeFolsom City Councilwoman Rosario Rodriguez\nFeatured Guests\nAssemblyman Kevin KileyVice Chair\, Assembly Education Committee\nTrustee Thomas SilvaPresident\, Board of TrusteesGalt Joint Union Elementary School District\nWe are SOLD OUT!\nNo tickets will be sold at the door. \nEnjoy an evening with fellow Republicans as we kick off the Christmas Season and support the SacCountyGOP’s 2022 Election Victory Fund! Our featured guests have each taken bold stands to support parental rights in the education arena. They will talk about their work to put kids first. \nProceeds will fund our June 2022 Voter Guide mailing! We’re recruiting candidates to run for school boards\, city council\, county supervisor\, state and federal district offices\, and they’ll need our support!
URL:https://www.saccountygop.com/calendar/saccountygop-holiday-reception/
LOCATION:Folsom Private Residence\, Address Provided Upon RSVP\, Folsom
CATEGORIES:Events,SCRP
ATTACH;FMTTYPE=image/png:https://www.saccountygop.com/wp-content/uploads/2021/10/Holiday-Reception-payment-page-header-2.png
END:VEVENT
END:VCALENDAR