BEGIN:VCALENDAR
VERSION:2.0
PRODID:-//Sacramento County Republican Party - ECPv6.15.20//NONSGML v1.0//EN
CALSCALE:GREGORIAN
METHOD:PUBLISH
X-WR-CALNAME:Sacramento County Republican Party
X-ORIGINAL-URL:https://www.saccountygop.com
X-WR-CALDESC:Events for Sacramento County Republican Party
REFRESH-INTERVAL;VALUE=DURATION:PT1H
X-Robots-Tag:noindex
X-PUBLISHED-TTL:PT1H
BEGIN:VTIMEZONE
TZID:America/Los_Angeles
BEGIN:DAYLIGHT
TZOFFSETFROM:-0800
TZOFFSETTO:-0700
TZNAME:PDT
DTSTART:20200308T100000
END:DAYLIGHT
BEGIN:STANDARD
TZOFFSETFROM:-0700
TZOFFSETTO:-0800
TZNAME:PST
DTSTART:20201101T090000
END:STANDARD
BEGIN:DAYLIGHT
TZOFFSETFROM:-0800
TZOFFSETTO:-0700
TZNAME:PDT
DTSTART:20210314T100000
END:DAYLIGHT
BEGIN:STANDARD
TZOFFSETFROM:-0700
TZOFFSETTO:-0800
TZNAME:PST
DTSTART:20211107T090000
END:STANDARD
BEGIN:DAYLIGHT
TZOFFSETFROM:-0800
TZOFFSETTO:-0700
TZNAME:PDT
DTSTART:20220313T100000
END:DAYLIGHT
BEGIN:STANDARD
TZOFFSETFROM:-0700
TZOFFSETTO:-0800
TZNAME:PST
DTSTART:20221106T090000
END:STANDARD
END:VTIMEZONE
BEGIN:VEVENT
DTSTART;TZID=America/Los_Angeles:20210915T190000
DTEND;TZID=America/Los_Angeles:20210915T200000
DTSTAMP:20260421T153935
CREATED:20210820T052303Z
LAST-MODIFIED:20210915T191755Z
UID:122836-1631732400-1631736000@www.saccountygop.com
SUMMARY:September 2021 Central Committee Meeting
DESCRIPTION:About SacCountyGOP MeetingsParticipation in the next Committee meeting is reserved for Committee members only due to space constraints. If you have communications for Committee Members\, (view the list of members)\, send comments to info@saccountygop.com. \n			\n			\n				\n				\n				\n				\n				\n				\n				\n				\n				\n				The elected Members of the Sacramento County Republican Central Committee meet on the third Wednesday of each month. The next meeting will take place on September 15\, starting at 7pm. At the time of this meeting\, California should have a new Governor! We will review the election results available in the Recall of Gavin Newsom as well as our GOTV operation.
URL:https://www.saccountygop.com/calendar/september-2021-central-committee-meeting/
LOCATION:SCRP Headquarters\, 9851 Horn Road\, Ste. 100\, Sacramento\, 95827\, United States
CATEGORIES:SCRP
ATTACH;FMTTYPE=image/png:https://www.saccountygop.com/wp-content/uploads/2020/12/MonthlyMtg-Feature-2.png
END:VEVENT
END:VCALENDAR