BEGIN:VCALENDAR
VERSION:2.0
PRODID:-//Sacramento County Republican Party - ECPv6.15.20//NONSGML v1.0//EN
CALSCALE:GREGORIAN
METHOD:PUBLISH
X-WR-CALNAME:Sacramento County Republican Party
X-ORIGINAL-URL:https://www.saccountygop.com
X-WR-CALDESC:Events for Sacramento County Republican Party
REFRESH-INTERVAL;VALUE=DURATION:PT1H
X-Robots-Tag:noindex
X-PUBLISHED-TTL:PT1H
BEGIN:VTIMEZONE
TZID:America/Los_Angeles
BEGIN:DAYLIGHT
TZOFFSETFROM:-0800
TZOFFSETTO:-0700
TZNAME:PDT
DTSTART:20200308T100000
END:DAYLIGHT
BEGIN:STANDARD
TZOFFSETFROM:-0700
TZOFFSETTO:-0800
TZNAME:PST
DTSTART:20201101T090000
END:STANDARD
BEGIN:DAYLIGHT
TZOFFSETFROM:-0800
TZOFFSETTO:-0700
TZNAME:PDT
DTSTART:20210314T100000
END:DAYLIGHT
BEGIN:STANDARD
TZOFFSETFROM:-0700
TZOFFSETTO:-0800
TZNAME:PST
DTSTART:20211107T090000
END:STANDARD
BEGIN:DAYLIGHT
TZOFFSETFROM:-0800
TZOFFSETTO:-0700
TZNAME:PDT
DTSTART:20220313T100000
END:DAYLIGHT
BEGIN:STANDARD
TZOFFSETFROM:-0700
TZOFFSETTO:-0800
TZNAME:PST
DTSTART:20221106T090000
END:STANDARD
END:VTIMEZONE
BEGIN:VEVENT
DTSTART;TZID=America/Los_Angeles:20210612T120000
DTEND;TZID=America/Los_Angeles:20210612T140000
DTSTAMP:20260424T045934
CREATED:20210512T233025Z
LAST-MODIFIED:20210608T044428Z
UID:121949-1623499200-1623506400@www.saccountygop.com
SUMMARY:District 3 BBQ Meet and Greet
DESCRIPTION:Are You A Registered Republican in Supervisor District 3?\nClick Here to find your Supervisor District \nJoin Local Republican Voters & Elected Officials\nSaturday\, June 12th | Noon to 2pmFair Oaks Park BBQ Area\n11549 Fair Oaks Blvd. (at Madison) \nEnjoy uncensored conversation and prize drawings while supporting the SacCountyGOP headquarters operation. \nThank You To Our Sponsors!Nina CaronMatt FlemingMax Semenenko \n			\n			\n				\n				\n				\n				\n				\n				\n				\n				\n				\n				Suggested Donation: $25 per person\nSponsors: $100 (includes two tickets)\n(Must be registered in advance to attend) \n			\n				Register for the Fair Oaks Event\n			\n				Download and Share Flyer
URL:https://www.saccountygop.com/calendar/district-3-bbq-meet-and-greet/
LOCATION:Fair Oaks Park\, 11549 Fair Oaks Blvd.\, Fair Oaks\, California
CATEGORIES:Events,SCRP
ATTACH;FMTTYPE=image/png:https://www.saccountygop.com/wp-content/uploads/2021/05/District-3-BBQ-header.png
END:VEVENT
BEGIN:VEVENT
DTSTART;TZID=America/Los_Angeles:20210616T190000
DTEND;TZID=America/Los_Angeles:20210616T200000
DTSTAMP:20260424T045934
CREATED:20210528T204104Z
LAST-MODIFIED:20210616T223417Z
UID:122030-1623870000-1623873600@www.saccountygop.com
SUMMARY:June 2021 Central Committee Meeting
DESCRIPTION:About the Meeting \nThis meeting will be a hybrid format with Committee Members & Alternates meeting in person\, while Associates\, Candidates\, GOP Organization leaders and Sacramento Registered Republicans may join via Zoom.  Please be sure to sign up for the Zoom link in advance. The agenda is set in advance by the SCRP Executive Committee. Since participation in the Committee meeting is reserved for Committee members only\, Sacramento County registered Republicans are encouraged to discuss their ideas in advance with a committee member (view the list of members)\, and send comments by email.\n			\n			\n				\n				\n				\n				\n				\n				\n				\n				\n				\n				\n			\n				\n				\n				\n				\n				Our featured guest will be former Sacramento area Congressman Doug Ose\, candidate for Governor in the Recall election. Learn more about him on his website. \n			\n			\n				\n				\n				\n				\n				\n				\n				\n				\n				\n				The Sacramento County Republican Central Committee meets on the third Wednesday of the month. The next meeting will be on Wednesday\, June 16\, at 7pm. \nThe deadline for guests to register was at 2pm on June 16. If you missed the opportunity\, you will be welcome next month! \nIn addition to hearing an update on the Recall from Congressman Ose\, we will discuss the June 19 Candidate Training and the June 29 fundraiser featuring Assemblymembers Kiley and Gallagher.
URL:https://www.saccountygop.com/calendar/june-2021-committee-meeting/
LOCATION:Via Zoom
CATEGORIES:SCRP
ATTACH;FMTTYPE=image/png:https://www.saccountygop.com/wp-content/uploads/2017/02/MonthlyMtg-Feature-2.png
END:VEVENT
BEGIN:VEVENT
DTSTART;TZID=America/Los_Angeles:20210619T090000
DTEND;TZID=America/Los_Angeles:20210619T160000
DTSTAMP:20260424T045934
CREATED:20210424T021751Z
LAST-MODIFIED:20210611T212058Z
UID:121703-1624093200-1624118400@www.saccountygop.com
SUMMARY:Train to Win Elections
DESCRIPTION:In-Person Attendance is Now Sold Out! But You Can Still Join the Training On Zoom \nLearn from the experts if running for office is the right move for you.  The California Republican Party (CAGOP) and the Sacramento County Republican Party (SacCountyGOP) will co-host this event at the headquarters of the CAGOP in downtown Sacramento. The cost to participate is $20 per person\, which will cover your training materials and access to the one-day workshop. Since we have sold out of in-person seating\, those who register going forward will be joining in via Zoom. Access details and materials will be provided to virtual participants several days before the event. \nSponsorships now available for virtual participation: Workshop Supporter ($250) includes entry for 4 people from the same business or organization; Major Sponsor ($1000) includes entry for 10 people from the same business or organization. All sponsors will be acknowledged on our website\, in social media\, and at the Workshop. Use the registration link below to secure your sponsorship. \nThank You Workshop SupporterSacramento Republican Women Federated\n			\n				Register for the Workshop\n			\n			\n				\n				\n				\n				\n			\n				\n				\n				\n				\n				\n				\n				\n				\n				\n				\n				\n				\n					Krista Pittman\n					CAGOP Field & Political Director \n					“Questions to Ask Yourself Before Running for Office & All About Trailblazer Candidate Trainings” \nKrista has been working in Republican politics in various capacities\, including as the Regional Political Coordinator for the RNC\, Political Director for the Lousiana GOP\, and as Calfornia State Director for the RNC during the 2020 Election. \n  \n					FacebookX\n				\n			\n			\n				\n				\n				\n				\n				\n				\n				\n				\n				\n				\n				\n					Courtney Bailey-Kanelos\n					Registrar of Voters\, Sacramento County \n					“Candidate Resources at County Elections Dept. and Redistricting Update” \nCourtney Bailey-Kanelos was appointed as Registrar of Voters in 2018 after 14 years working with the County’s Department of Voter Registration and Elections. She led the department’s daunting task of converting to a new system of voting based on the Voters Choice Act\, including all mail ballots\, vote centers and drop boxes replacing polling places\, and 30 days to cast ballots. \n					\n				\n			\n			\n				\n				\n				\n				\n				\n				\n				\n				\n				\n				\n				\n					Bryan Burch\n					Owner\, Political Finance Solutions \n					“What Candidates Need to Know About Campaign Finance Laws” \nBryan has worked in politics for over a decade handling compliance for the California Republican Party. He also serves as the accountant for several County GOP Committees\, include Sacramento. Aside from his work in compliance\, he has played essential roles in voter registration programs\, opposition research and communications. \n					Facebook\n				\n			\n			\n				\n				\n				\n				\n				\n				\n				\n				\n				\n				\n				\n					Hon. Sue Frost\n					Supervisor\, Sacramento County \n					“The Ground Game and Setting the Stage for a Winning Campaign” \nSue Frost currently serves as the Chair of the Sacramento County Board of Supervisors. She is serving her second term as the representative in District 3\, and previously was a member of the Citrus Heights City Council. Currently the lone Republican on the Board\, Frost is a strong advocate for taxpayers and public safety. \n					FacebookX\n				\n			\n			\n				\n				\n				\n				\n			\n				\n				\n				\n				\n				\n				\n				\n				\n				\n				\n				\n				\n					Hon. Rosario Rodriguez\n					Folsom City Council Member \n					“Candidate Panel – Realities of Running and Winning!” \nRosario Rodriguez is serving her first term as a member of the Folsom City Council. Elected in 2020\, Rosario is known not only for her tireless service to the community\, but also as the owner of Sutter Street Taqueria. We thank her for being a sponsor of this candidate training and a Member of the Sacramento County Republican Central Committee. \n  \n					Facebook\n				\n			\n			\n				\n				\n				\n				\n				\n				\n				\n				\n				\n				\n				\n					Hon. Micah Grant\n					Trustee\, Natomas USD  \n					“Communications & Media Strategies” \nMicah Grant was first elected in 2016 to the Natomas Unified School District where he champions parental rights\, vocational training\, and technology funding. He has a distinguished career in communications\, currently providing media relations and communications services in the financial industry while serving on the Executive Committee for the Sacramento County Republican Central Committee. \n					Facebook\n				\n			\n			\n				\n				\n				\n				\n				\n				\n				\n				\n				\n				\n				\n					Corrin Rankin\n					CAGOP Central Valley Regional Vice Chair \n					“Central Valley Update & Coalition Engagement” \nCorrin Rankin is a conservative activist\, thought leader\, national media surrogate\, and President of the Legacy Republican Alliance. Rankin’s political experience includes consulting on successful campaigns for local office\, serving as California’s statewide director for African Americans for Trump\, and acting as an ethnic media surrogate for both the 2016 and 2020 Trump campaigns. She also serves as CAGOP Central Valley Region Vice Chair. \n					FacebookX\n				\n			\n			\n				\n				\n				\n				\n				\n				\n				\n				\n				\n				\n				\n					Megan Range\n					Exec. Dir. Lincoln Club of No. California \n					“How and Who To Ask for Money” \nMegan Range serves as the Executive Director of the Lincoln Club of Northern California\, a major supporter of conservative candidates in the greater Bay Area. She previously worked at Mercury Public Affairs and as a Communications Specialist for the Junior League of Sacramento. \n					FacebookX\n				\n			\n			\n				\n				\n				\n				\n			\n				\n				\n				\n				\n				\n				\n				\n				\n				\n				\n				\n				\n					Aaron Silva\n					Attorney \n					“What are Business PACs Looking For In A Candidate?” \nAaron Silva is an attorney at a Sacramento law firm specializing in human resources. He serves on the Folsom Chamber of Commerce Board of Directors and has led their Political Action Committee. Aaron is also a Member of the Sacramento County Republican Central Committee. \n					Facebook\n				\n			\n			\n				\n				\n				\n				\n				\n				\n				\n				\n				\n				\n				\n					Cole Patterson\n					CAGOP\, Data Director \n					“Campaign Sidekick & GOP Data Center” \nCole Patterson served as the State Data Director for California at the Republican National Committee before taking on the CAGOP’s Data Director position. He uses his technical background to demystify voter data science for non-technical audiences.  He now oversees the day-to-day operations of the data department; leading a collaborative team to continuously enhance the data management operations. \n					\n				\n			\n			\n				\n				\n				\n				\n				\n				\n				\n				\n				\n				\n				\n					Betsy Mahan\n					Chair\, Sacramento County Republican Party \n					“Seats up in 2022 and SacCountyGOP Resources for Candidates” \nBetsy Mahan was re-elected to a second four-year term as Chair of the Sacramento County Republican Central Committee in 2020. Her career has included running for the State Assembly and City Council\, working for a U.S. Senator\, Government Relations in the banking industry\, multiple campaigns\, political fundraising\, and recently as the owner of a digital marketing firm.  \n					FacebookX
URL:https://www.saccountygop.com/calendar/candidate-workshop/
LOCATION:CRP State Headquarters\, 1001 K Street\, Sacramento\, CA
CATEGORIES:CAGOP,Events,SCRP
ATTACH;FMTTYPE=image/png:https://www.saccountygop.com/wp-content/uploads/2021/04/Train-to-win-elections.png
END:VEVENT
BEGIN:VEVENT
DTSTART;TZID=America/Los_Angeles:20210629T183000
DTEND;TZID=America/Los_Angeles:20210629T210000
DTSTAMP:20260424T045934
CREATED:20210511T025449Z
LAST-MODIFIED:20210626T161040Z
UID:121921-1624991400-1625000400@www.saccountygop.com
SUMMARY:An Evening with Assemblymen Kevin Kiley and James Gallagher
DESCRIPTION:Event is SOLD OUT!\nTuesday\, June 29th\nAn Evening with Assemblymen Kevin Kiley and James Gallagher\n“Making the Case Against Gavin Newsom”\nEmcee: Hon. Roger Niello\, Former AssemblymanInvocation: Hon. Ted Gaines\, Board of EqualizationPledge: Captain Jim Barnes\, Sacramento County Sheriff DepartmentIntroductions: Hon. Rosario Rodriguez\, Folsom City Council \nAt the Milagro Event Center by Bella Bru6241 Fair Oaks Blvd.\, Carmichael\nThanks for your support!Reservation Deadline was Friday\, June 25 at MidnightTickets will not be sold at the door. \n			\n			\n				\n				\n				\n				\n			\n				\n				\n				\n				\n				\n				\n				\n				\n				\n				\n				What’s it like to take on the most powerful politician in the State of California? Ticket holders will find out as the Sacramento County Republican Party hosts a dinner featuring these two warriors for the people of California. Assemblyman Kevin Kiley and Assemblyman James Gallagher have been fighting valiantly in the courts to rein in Governor Newsom as he made sure not to let a crisis like the COVID pandemic go to waste. \nMany thanks to all who purchased tickets. If you were unable to attend this event\, keep checking the website for upcoming events that will feature our fabulous candidates! \nWhat’s on the menu? We will be serving dinner family style including: \nField Greens with Seasonal Vegetables and Edible FlowersLemon Artichoke Chicken & House Smoked Tri Tip with Cabernet ReductionRoasted Baby Red Potatoes & Baked Truffle Mac and Cheese \nAnd for the dessert reception: \nChocolate Dipped StrawberriesLemon Cheesecake SquaresChocolate Truffle TorteCarrot Cake \n			\n			\n				\n				\n				\n				\n				\n				\n				\n				\n				\n				\n			\n				\n				\n				\n				\n				Thank You Sponsors!\nProud Media SponsorComstock’s Magazine \nEl Dorado County Republican PartySup. Sue FrostHon. James GallagherMatthew HarmonBetsy & Charlie MahanRoger NielloMax SemenenkoBarbara & Jon Sloan
URL:https://www.saccountygop.com/calendar/an-evening-with-assemblymen-kevin-kiley-and-james-gallagher/
LOCATION:Milagro Event Center\, 6241 Fair Oaks Boulevard\, Carmichael\, California\, 95608
CATEGORIES:Events,SCRP
ATTACH;FMTTYPE=image/jpeg:https://www.saccountygop.com/wp-content/uploads/2021/05/Kevin-Kiley-and-James-Gallagher-1000x509-1.jpg
END:VEVENT
END:VCALENDAR