BEGIN:VCALENDAR
VERSION:2.0
PRODID:-//Sacramento County Republican Party - ECPv6.15.20//NONSGML v1.0//EN
CALSCALE:GREGORIAN
METHOD:PUBLISH
X-ORIGINAL-URL:https://www.saccountygop.com
X-WR-CALDESC:Events for Sacramento County Republican Party
REFRESH-INTERVAL;VALUE=DURATION:PT1H
X-Robots-Tag:noindex
X-PUBLISHED-TTL:PT1H
BEGIN:VTIMEZONE
TZID:America/Los_Angeles
BEGIN:DAYLIGHT
TZOFFSETFROM:-0800
TZOFFSETTO:-0700
TZNAME:PDT
DTSTART:20200308T100000
END:DAYLIGHT
BEGIN:STANDARD
TZOFFSETFROM:-0700
TZOFFSETTO:-0800
TZNAME:PST
DTSTART:20201101T090000
END:STANDARD
BEGIN:DAYLIGHT
TZOFFSETFROM:-0800
TZOFFSETTO:-0700
TZNAME:PDT
DTSTART:20210314T100000
END:DAYLIGHT
BEGIN:STANDARD
TZOFFSETFROM:-0700
TZOFFSETTO:-0800
TZNAME:PST
DTSTART:20211107T090000
END:STANDARD
BEGIN:DAYLIGHT
TZOFFSETFROM:-0800
TZOFFSETTO:-0700
TZNAME:PDT
DTSTART:20220313T100000
END:DAYLIGHT
BEGIN:STANDARD
TZOFFSETFROM:-0700
TZOFFSETTO:-0800
TZNAME:PST
DTSTART:20221106T090000
END:STANDARD
END:VTIMEZONE
BEGIN:VEVENT
DTSTART;TZID=America/Los_Angeles:20210519T190000
DTEND;TZID=America/Los_Angeles:20210519T200000
DTSTAMP:20260424T103934
CREATED:20210427T223617Z
LAST-MODIFIED:20210528T203110Z
UID:121788-1621450800-1621454400@www.saccountygop.com
SUMMARY:May 2021 Committee Meeting
DESCRIPTION:About the Meeting \nThis meeting will be a hybrid format with Committee Members & Alternates meeting in person\, while Associates\, Candidates\, GOP Organization leaders and Sacramento Registered Republicans may join via Zoom.  Please be sure to sign up for the Zoom link in advance. The agenda is set in advance by the SCRP Executive Committee. Since participation in the Committee meeting is reserved for Committee members only\, Sacramento County registered Republicans are encouraged to discuss their ideas in advance with a committee member (view the list of members)\, and send comments by email. \n			\n			\n				\n				\n				\n				\n				\n				\n				\n				\n				\n				\n			\n				\n				\n				\n				\n				Our featured guest will be former Mayor of San Diego Kevin Faulconer\, candidate for Governor to replace Gavin Newsom. He will join us virtually to discuss the Recall and his campaign. Learn more on his website. \n			\n			\n				\n				\n				\n				\n				\n				\n				\n				\n				\n				The Sacramento County Republican Central Committee meets on the third Wednesday of the month. The next meeting will be on Wednesday\, May 19\, at 7pm. \nThe deadline for guests to register was at 2pm on May 19. If you missed the opportunity\, you will be welcome next month! \nIn addition to hearing an update on the Recall from Mayor Faulconer\, the agenda will include a discussion of plans for regional events that will be open to all Sacramento County Republicans who sign up in advance. The purpose of the events will be to meet your Central Committee Members\, local elected Republicans\, and to learn about the resources and volunteer opportunities available through the Sacramento Republican Party. We will also discuss the June 19 Candidate Training and the June 29 fundraiser featuring Assemblymembers Kiley and Gallagher.
URL:https://www.saccountygop.com/calendar/may-2021-committee-meeting/
LOCATION:SCRP Headquarters\, 9851 Horn Road\, Ste. 100\, Sacramento\, 95827\, United States
CATEGORIES:SCRP
ATTACH;FMTTYPE=image/png:https://www.saccountygop.com/wp-content/uploads/2020/12/MonthlyMtg-Feature-2.png
END:VEVENT
END:VCALENDAR