BEGIN:VCALENDAR
VERSION:2.0
PRODID:-//Sacramento County Republican Party - ECPv6.15.20//NONSGML v1.0//EN
CALSCALE:GREGORIAN
METHOD:PUBLISH
X-ORIGINAL-URL:https://www.saccountygop.com
X-WR-CALDESC:Events for Sacramento County Republican Party
REFRESH-INTERVAL;VALUE=DURATION:PT1H
X-Robots-Tag:noindex
X-PUBLISHED-TTL:PT1H
BEGIN:VTIMEZONE
TZID:America/Los_Angeles
BEGIN:DAYLIGHT
TZOFFSETFROM:-0800
TZOFFSETTO:-0700
TZNAME:PDT
DTSTART:20200308T100000
END:DAYLIGHT
BEGIN:STANDARD
TZOFFSETFROM:-0700
TZOFFSETTO:-0800
TZNAME:PST
DTSTART:20201101T090000
END:STANDARD
BEGIN:DAYLIGHT
TZOFFSETFROM:-0800
TZOFFSETTO:-0700
TZNAME:PDT
DTSTART:20210314T100000
END:DAYLIGHT
BEGIN:STANDARD
TZOFFSETFROM:-0700
TZOFFSETTO:-0800
TZNAME:PST
DTSTART:20211107T090000
END:STANDARD
BEGIN:DAYLIGHT
TZOFFSETFROM:-0800
TZOFFSETTO:-0700
TZNAME:PDT
DTSTART:20220313T100000
END:DAYLIGHT
BEGIN:STANDARD
TZOFFSETFROM:-0700
TZOFFSETTO:-0800
TZNAME:PST
DTSTART:20221106T090000
END:STANDARD
END:VTIMEZONE
BEGIN:VEVENT
DTSTART;TZID=America/Los_Angeles:20210317T190000
DTEND;TZID=America/Los_Angeles:20210317T200000
DTSTAMP:20260425T031728
CREATED:20210222T225509Z
LAST-MODIFIED:20210310T030456Z
UID:121263-1616007600-1616011200@www.saccountygop.com
SUMMARY:March 2021 Committee Meeting
DESCRIPTION:About SacCountyGOP Meetings \nThe March meeting will be held virtually. Attendees will include Committee Members\, Alternates\, Candidates\, and GOP Organization leaders. The agenda is set in advance by the SCRP Executive Committee. Since participation in the Committee meeting is reserved for Committee members only\, Sacramento County registered Republicans are encouraged to discuss their ideas in advance with a committee member (view the list of members)\, and send their comments to  info@saccountygop.com.\n			\n			\n				\n				\n				\n				\n				\n				\n				\n				\n				\n				The Sacramento County Republican Central Committee meets on the third Wednesday of the month. The next meeting will be on Wednesday\, March 17\, at 7pm. \nThe agenda will include an update on signatures gathered for the Recall of Gavin Newsom\, and SacCountyGOP’s contributions to that effort. \nCAGOP Central Valley Regional Vice Chair Corrin Rankin will brief the Committee on the GOP’s Committee to engage in the Redistricting process. \nWe will also be planning for a candidate workshop\, a summer fundraiser\, and regional receptions that are open to Republicans who want to support the work of the SacCountyGOP at the precinct level. \n\nNOTE: We have had several inquiries about being appointed to the Central Committee and taking a leadership role at the precinct level. We would like to thank The Precinct Project and others who are encouraging continued involvement in the GOP to prepare for the 2022 elections. \nThe Sacramento County Central Committee elections were held in March of 2020 with four-year terms. Vacancies are rare\, but when available\, replacement recommendations are made by the Executive Committee\, and a current Committee Member may also nominate a candidate. Positions are filled by a vote of the full Committee. Prior notice of at least ten days preceding the next Committee Meeting must be submitted by the nominating Committee Member (email info@saccountygop.com) to add this as an agenda item at the monthly meeting. Consideration is given to the candidate’s past commitment to SacCountyGOP grassroots\, elections\, and fundraising activities\, and their willingness to work as a team on future SacCountyGOP projects. \nWe have had a successful precinct operation in the past two elections where assigned Resource Volunteers distributed materials provided by the SacCountyGOP within their neighborhood. We will discuss how this program moves forward in each district at the March meeting.
URL:https://www.saccountygop.com/calendar/march-2021-committee-meeting/
LOCATION:Via Zoom
CATEGORIES:SCRP
ATTACH;FMTTYPE=image/png:https://www.saccountygop.com/wp-content/uploads/2020/12/MonthlyMtg-Feature-2.png
END:VEVENT
END:VCALENDAR