BEGIN:VCALENDAR
VERSION:2.0
PRODID:-//Sacramento County Republican Party - ECPv6.15.20//NONSGML v1.0//EN
CALSCALE:GREGORIAN
METHOD:PUBLISH
X-WR-CALNAME:Sacramento County Republican Party
X-ORIGINAL-URL:https://www.saccountygop.com
X-WR-CALDESC:Events for Sacramento County Republican Party
REFRESH-INTERVAL;VALUE=DURATION:PT1H
X-Robots-Tag:noindex
X-PUBLISHED-TTL:PT1H
BEGIN:VTIMEZONE
TZID:America/Los_Angeles
BEGIN:DAYLIGHT
TZOFFSETFROM:-0800
TZOFFSETTO:-0700
TZNAME:PDT
DTSTART:20190310T100000
END:DAYLIGHT
BEGIN:STANDARD
TZOFFSETFROM:-0700
TZOFFSETTO:-0800
TZNAME:PST
DTSTART:20191103T090000
END:STANDARD
BEGIN:DAYLIGHT
TZOFFSETFROM:-0800
TZOFFSETTO:-0700
TZNAME:PDT
DTSTART:20200308T100000
END:DAYLIGHT
BEGIN:STANDARD
TZOFFSETFROM:-0700
TZOFFSETTO:-0800
TZNAME:PST
DTSTART:20201101T090000
END:STANDARD
BEGIN:DAYLIGHT
TZOFFSETFROM:-0800
TZOFFSETTO:-0700
TZNAME:PDT
DTSTART:20210314T100000
END:DAYLIGHT
BEGIN:STANDARD
TZOFFSETFROM:-0700
TZOFFSETTO:-0800
TZNAME:PST
DTSTART:20211107T090000
END:STANDARD
END:VTIMEZONE
BEGIN:VEVENT
DTSTART;TZID=America/Los_Angeles:20201016T173000
DTEND;TZID=America/Los_Angeles:20201016T193000
DTSTAMP:20260421T194115
CREATED:20200726T021237Z
LAST-MODIFIED:20201015T184113Z
UID:120129-1602869400-1602876600@www.saccountygop.com
SUMMARY:Election Reception in Folsom
DESCRIPTION:Meet your candidates for the November election\, including Assemblyman Kevin Kiley and Congressional Candidate Buzz Patterson! Learn about ballot measures that will impact your taxes\, safety\, and voting rights. Meet fellow Republicans and conservatives from your neighborhood. \nAttendance will be limited to provide a healthy environment\, so please let the host know you’d like to attend right away. More details and the location will be provided after you register. \nThe suggested donation is not required\, but would be much appreciated to ensure the Sacramento County Republican Party has the resources needed to reach voters now that ballots have been mailed. \nRegistration is required by emailing the host\, or making the suggested donation using the form below.
URL:https://www.saccountygop.com/calendar/election-reception-in-folsom/
LOCATION:Rodriguez-Hayes Residence\, Address Provided Upon RSVP\, Folsom
CATEGORIES:Events,SCRP Election Reception
ATTACH;FMTTYPE=image/png:https://www.saccountygop.com/wp-content/uploads/2020/07/Neighborhood-Election-Reception-event-header.png
END:VEVENT
END:VCALENDAR