BEGIN:VCALENDAR
VERSION:2.0
PRODID:-//Sacramento County Republican Party - ECPv6.15.20//NONSGML v1.0//EN
CALSCALE:GREGORIAN
METHOD:PUBLISH
X-WR-CALNAME:Sacramento County Republican Party
X-ORIGINAL-URL:https://www.saccountygop.com
X-WR-CALDESC:Events for Sacramento County Republican Party
REFRESH-INTERVAL;VALUE=DURATION:PT1H
X-Robots-Tag:noindex
X-PUBLISHED-TTL:PT1H
BEGIN:VTIMEZONE
TZID:America/Los_Angeles
BEGIN:DAYLIGHT
TZOFFSETFROM:-0800
TZOFFSETTO:-0700
TZNAME:PDT
DTSTART:20160313T100000
END:DAYLIGHT
BEGIN:STANDARD
TZOFFSETFROM:-0700
TZOFFSETTO:-0800
TZNAME:PST
DTSTART:20161106T090000
END:STANDARD
BEGIN:DAYLIGHT
TZOFFSETFROM:-0800
TZOFFSETTO:-0700
TZNAME:PDT
DTSTART:20170312T100000
END:DAYLIGHT
BEGIN:STANDARD
TZOFFSETFROM:-0700
TZOFFSETTO:-0800
TZNAME:PST
DTSTART:20171105T090000
END:STANDARD
BEGIN:DAYLIGHT
TZOFFSETFROM:-0800
TZOFFSETTO:-0700
TZNAME:PDT
DTSTART:20180311T100000
END:DAYLIGHT
BEGIN:STANDARD
TZOFFSETFROM:-0700
TZOFFSETTO:-0800
TZNAME:PST
DTSTART:20181104T090000
END:STANDARD
BEGIN:DAYLIGHT
TZOFFSETFROM:-0800
TZOFFSETTO:-0700
TZNAME:PDT
DTSTART:20190310T100000
END:DAYLIGHT
BEGIN:STANDARD
TZOFFSETFROM:-0700
TZOFFSETTO:-0800
TZNAME:PST
DTSTART:20191103T090000
END:STANDARD
BEGIN:DAYLIGHT
TZOFFSETFROM:-0800
TZOFFSETTO:-0700
TZNAME:PDT
DTSTART:20200308T100000
END:DAYLIGHT
BEGIN:STANDARD
TZOFFSETFROM:-0700
TZOFFSETTO:-0800
TZNAME:PST
DTSTART:20201101T090000
END:STANDARD
END:VTIMEZONE
BEGIN:VEVENT
DTSTART;TZID=America/Los_Angeles:20190227T173000
DTEND;TZID=America/Los_Angeles:20190227T200000
DTSTAMP:20260424T160723
CREATED:20190225T190833Z
LAST-MODIFIED:20190225T191102Z
UID:117954-1551288600-1551297600@www.saccountygop.com
SUMMARY:Top GOP Candidates in SD 1 Special Election to Debate
DESCRIPTION:The Sun City Roseville Republicans will sponsor a debate between the three top candidates in the race to replace Senator Ted Gaines who was elected to the Board of Equalization. \nCo-hosts include the Lincoln Club of the Sierras\, Impact Republicans\, and the Auburn Area Republican Women. \nRSVPs are required for this free event.  Learn about all of the candidates on our SD 1 Election page. \n[pdf-embedder url=”https://www.saccountygop.com/wp-content/uploads/2019/02/CA-State-Senate-District-1-Debate-Flyer-2-27.pdf” title=”CA State Senate District 1 Debate Flyer 2-27″] \n 
URL:https://www.saccountygop.com/calendar/top-gop-candidates-in-sd-1-special-election-to-debate/
LOCATION:The Ballroom Timber Creek Lodge\, 7050 Del Webb Blvd.\, Roseville
CATEGORIES:Republican Candidate Event
END:VEVENT
BEGIN:VEVENT
DTSTART;TZID=America/Los_Angeles:20190205T153000
DTEND;TZID=America/Los_Angeles:20190205T183000
DTSTAMP:20260424T160723
CREATED:20181214T002707Z
LAST-MODIFIED:20190205T182006Z
UID:117710-1549380600-1549391400@www.saccountygop.com
SUMMARY:2019 State of the Union Watch Party - New Date!
DESCRIPTION:Press Release \n			\n				\n				\n				\n				\n				Use the form to purchase tickets online\, or download this invitation and response form and mail to SacCountyGOP\, Post Office Box 255367\, Sacramento\, CA 95865 by Feb. 1. \nBenefits of Sponsorships: Get your seat at the table! \n$100 – SCRP Century Club 4 tickets (half table) and acknowledgement at the event \n$250 – Friends of MAGA 8 tickets (one table)\, and acknowledgement on website and at event \n$500 – Victory 2020 16 tickets (two tables)\, acknowledgement on website\, social media and at event \nTo RSVP and provide the names of your guests\, email info@SacCountyGOP.com. \nView President Trump’s SOTU address in 2018.
URL:https://www.saccountygop.com/calendar/2019-state-of-the-union-watch-party/
LOCATION:VFW Post 6604\, 1300 Forrest Avenue\, Folsom\, CA
CATEGORIES:Republican Candidate Event
ATTACH;FMTTYPE=image/png:https://www.saccountygop.com/wp-content/uploads/2018/12/2018-SOTU-image.png
END:VEVENT
BEGIN:VEVENT
DTSTART;TZID=America/Los_Angeles:20181104T130000
DTEND;TZID=America/Los_Angeles:20181104T141500
DTSTAMP:20260424T160723
CREATED:20181101T184452Z
LAST-MODIFIED:20181104T025153Z
UID:117573-1541336400-1541340900@www.saccountygop.com
SUMMARY:John Cox Rally in Sacramento
DESCRIPTION:John Cox is in it to win it\nand we have to do everything we can\nto convince undecided voters that\nHelp Is On The Way!\nGather at the Sacramento County Republican Party Headquarters on Sunday before the Election to hear from John Cox and learn how you can encourage voters to turn out. Questions? Call us at (916) 822-5618. \nDon’t forget to turn back your clocks Saturday night! If you don’t\, and arrive an hour early\, you will be put to work! Really! \nDirections:  \nFrom Hwy. 50\, take the Bradshaw Exit and head North. Turn right on Folsom Blvd. and the next right is Horn Road. Immediately turn left into the Brookside Restaurant parking lot and follow it through the back alongside the brick buildings in the business park. We are the only white stucco building on the left. Please RSVP below and we’ll see you there! \n[wpforms id=”117588″ title=”false” description=”false”]
URL:https://www.saccountygop.com/calendar/john-cox-rally-in-sacramento/
LOCATION:SCRP Headquarters\, 9851 Horn Road\, Ste. 100\, Sacramento\, 95827\, United States
CATEGORIES:Republican Candidate Event,SCRP
ATTACH;FMTTYPE=image/png:https://www.saccountygop.com/wp-content/uploads/2018/11/Sac-Rally-Event-Feature.png
END:VEVENT
BEGIN:VEVENT
DTSTART;TZID=America/Los_Angeles:20181008T090000
DTEND;TZID=America/Los_Angeles:20181008T090000
DTSTAMP:20260424T160723
CREATED:20181002T024708Z
LAST-MODIFIED:20181008T015240Z
UID:117378-1538989200-1538989200@www.saccountygop.com
SUMMARY:Governor Candidates Debate
DESCRIPTION:Gavin Newsom has finally agreed to face Republican John Cox…on the radio…in San Francisco. \nKQED will make the live radio debate available to other stations around California\, and Sacramento-based CapRadio will carry it live on 90.9 FM. \nLearn more.
URL:https://www.saccountygop.com/calendar/governor-candidates-debate/
LOCATION:KQED Radio
CATEGORIES:Republican Candidate Event
ATTACH;FMTTYPE=image/png:https://www.saccountygop.com/wp-content/uploads/2018/10/Newsom-Cox.png
END:VEVENT
BEGIN:VEVENT
DTSTART;TZID=America/Los_Angeles:20180904T163000
DTEND;TZID=America/Los_Angeles:20180904T190000
DTSTAMP:20260424T160723
CREATED:20180820T170939Z
LAST-MODIFIED:20180831T172000Z
UID:117191-1536078600-1536087600@www.saccountygop.com
SUMMARY:Joshua Hoover for School Board Event
DESCRIPTION:Come meet Joshua Hoover who is running for Folsom Cordova School Board at his last fundraiser of the year and pick up a lawn sign for your yard! \nFor tickets and contributions to “Joshua Hoover for School Board 2018” visit www.electjoshua.com or mail to P.O. Box 6761\, Folsom\, CA 95763. \nTickets will also be available at the door. Cost: $25 or Sponsor $100. \nBeer\, wine and snacks will be served. \nRSVP: joshua@electjoshua.com \n 
URL:https://www.saccountygop.com/calendar/joshua-hoover-for-school-board-event/
LOCATION:Home of Tony & Stephanie Herrera\, 86 Cascade Falls Drive\, Folsom\, California
CATEGORIES:Republican Candidate Event
ATTACH;FMTTYPE=image/png:https://www.saccountygop.com/wp-content/uploads/2018/08/Josh-Hoover-Banner.png
END:VEVENT
BEGIN:VEVENT
DTSTART;TZID=America/Los_Angeles:20180901T090000
DTEND;TZID=America/Los_Angeles:20180901T130000
DTSTAMP:20260424T160723
CREATED:20180821T051009Z
LAST-MODIFIED:20180829T063932Z
UID:117189-1535792400-1535806800@www.saccountygop.com
SUMMARY:SacCountyGOP Walk for Andrew Grant for Congress
DESCRIPTION:  \nRSVP for this important event at: Volunteer@SacCountyGOP.com
URL:https://www.saccountygop.com/calendar/saccountygop-walk-for-andrew-grant-for-congress/
LOCATION:Grant for Congress Hdqrts\, 9381 E. Stockton Blvd\, Elk Grove
CATEGORIES:Republican Candidate Event
ATTACH;FMTTYPE=image/png:https://www.saccountygop.com/wp-content/uploads/2018/08/Walk-For-Andrew-Grant.png
END:VEVENT
BEGIN:VEVENT
DTSTART;TZID=America/Los_Angeles:20180605T060000
DTEND;TZID=America/Los_Angeles:20180605T190000
DTSTAMP:20260424T160723
CREATED:20180510T182810Z
LAST-MODIFIED:20180510T183535Z
UID:116806-1528178400-1528225200@www.saccountygop.com
SUMMARY:Election Day
DESCRIPTION:California voters have until June 5 to vote on five ballot measures and a long list of candidates for local\, state and federal offices. Learn more about how to vote in Sacramento on our Elections page. All Vote Centers will be open on Election Day from 7am – 8pm. View the list of Vote Centers and Drop-off Boxes. \nDo not go to your traditional polling place on Election Day! Only regional Vote Centers will be available. \nQuestions? Call the Sacramento County Republican Party Voter Help Line at (916) 822-5618. \nThe Sacramento County Republican Party has a list of recommended positions on the ballot measures\, and the candidates. \nIf you would like to help us turn out voters to support our Republican candidates\, visit the Volunteer page and sign up!
URL:https://www.saccountygop.com/calendar/election-day/
CATEGORIES:Republican Candidate Event
ATTACH;FMTTYPE=image/png:https://www.saccountygop.com/wp-content/uploads/2018/05/VCA-Cvr-Page.png
END:VEVENT
BEGIN:VEVENT
DTSTART;TZID=America/Los_Angeles:20180430T103000
DTEND;TZID=America/Los_Angeles:20180430T130000
DTSTAMP:20260424T160723
CREATED:20180424T120555Z
LAST-MODIFIED:20180424T120730Z
UID:116717-1525084200-1525093200@www.saccountygop.com
SUMMARY:Joshua Hoover for School Board Spring Fundraiser
DESCRIPTION:Join local elected officials and community leaders in support of Joshua Hoover for Folsom Cordova School Board. Learn more about his campaign. \nBeer\, wine\, and appetizers will be served. \nRSVP: joshua@electjoshua.com. \nCost: $100 Sponsor or $50 Ticket \nContributions to “Joshua Hoover for School Board 2018” can be made online at www.electjoshua.com or mailed to P.O. Box 6761\, Folsom\, CA 95763. Tickets will also be available at the door.
URL:https://www.saccountygop.com/calendar/joshua-hoover-for-school-board-spring-fundraiser/
LOCATION:Sutter Street Taqueria\, 727 Sutter Street\, Folsom\, CA
CATEGORIES:Republican Candidate Event
ATTACH;FMTTYPE=image/jpeg:https://www.saccountygop.com/wp-content/uploads/2018/04/Hoover-Family.jpg
ORGANIZER;CN="Joshua Hoover for School Board":MAILTO:joshua@electjoshua.com
END:VEVENT
BEGIN:VEVENT
DTSTART;TZID=America/Los_Angeles:20170925T103000
DTEND;TZID=America/Los_Angeles:20170925T123000
DTSTAMP:20260424T160723
CREATED:20170915T054738Z
LAST-MODIFIED:20170915T055105Z
UID:116081-1506335400-1506342600@www.saccountygop.com
SUMMARY:Rancho Murieta Reception in Support of Andrew Grant for Congress
DESCRIPTION:Wanda and Dan Klaff will host a reception at their home for CD 7 Candidate Andrew Grant. \nRSVP to Wendy Warfield & Associates – 916.492.9604 \nView the invitation for more details and a donor form. \n  \nNote: Sacramento County Republican Party will consider endorsements of Republican candidates in early 2018. Events listed on this site do not represent an endorsement. 
URL:https://www.saccountygop.com/calendar/rancho-murieta-reception-support-andrew-grant-congress/
LOCATION:Private Residence\, Provided Upon RSVP\, Sacramento\, California
CATEGORIES:Republican Candidate Event
ATTACH;FMTTYPE=image/png:https://www.saccountygop.com/wp-content/uploads/2017/09/Grant-for-Congress-Banner.png
END:VEVENT
END:VCALENDAR