BEGIN:VCALENDAR
VERSION:2.0
PRODID:-//Sacramento County Republican Party - ECPv6.15.20//NONSGML v1.0//EN
CALSCALE:GREGORIAN
METHOD:PUBLISH
X-WR-CALNAME:Sacramento County Republican Party
X-ORIGINAL-URL:https://www.saccountygop.com
X-WR-CALDESC:Events for Sacramento County Republican Party
REFRESH-INTERVAL;VALUE=DURATION:PT1H
X-Robots-Tag:noindex
X-PUBLISHED-TTL:PT1H
BEGIN:VTIMEZONE
TZID:America/Los_Angeles
BEGIN:DAYLIGHT
TZOFFSETFROM:-0800
TZOFFSETTO:-0700
TZNAME:PDT
DTSTART:20160313T100000
END:DAYLIGHT
BEGIN:STANDARD
TZOFFSETFROM:-0700
TZOFFSETTO:-0800
TZNAME:PST
DTSTART:20161106T090000
END:STANDARD
BEGIN:DAYLIGHT
TZOFFSETFROM:-0800
TZOFFSETTO:-0700
TZNAME:PDT
DTSTART:20170312T100000
END:DAYLIGHT
BEGIN:STANDARD
TZOFFSETFROM:-0700
TZOFFSETTO:-0800
TZNAME:PST
DTSTART:20171105T090000
END:STANDARD
BEGIN:DAYLIGHT
TZOFFSETFROM:-0800
TZOFFSETTO:-0700
TZNAME:PDT
DTSTART:20180311T100000
END:DAYLIGHT
BEGIN:STANDARD
TZOFFSETFROM:-0700
TZOFFSETTO:-0800
TZNAME:PST
DTSTART:20181104T090000
END:STANDARD
BEGIN:DAYLIGHT
TZOFFSETFROM:-0800
TZOFFSETTO:-0700
TZNAME:PDT
DTSTART:20190310T100000
END:DAYLIGHT
BEGIN:STANDARD
TZOFFSETFROM:-0700
TZOFFSETTO:-0800
TZNAME:PST
DTSTART:20191103T090000
END:STANDARD
BEGIN:DAYLIGHT
TZOFFSETFROM:-0800
TZOFFSETTO:-0700
TZNAME:PDT
DTSTART:20200308T100000
END:DAYLIGHT
BEGIN:STANDARD
TZOFFSETFROM:-0700
TZOFFSETTO:-0800
TZNAME:PST
DTSTART:20201101T090000
END:STANDARD
BEGIN:DAYLIGHT
TZOFFSETFROM:-0800
TZOFFSETTO:-0700
TZNAME:PDT
DTSTART:20210314T100000
END:DAYLIGHT
BEGIN:STANDARD
TZOFFSETFROM:-0700
TZOFFSETTO:-0800
TZNAME:PST
DTSTART:20211107T090000
END:STANDARD
BEGIN:DAYLIGHT
TZOFFSETFROM:-0800
TZOFFSETTO:-0700
TZNAME:PDT
DTSTART:20220313T100000
END:DAYLIGHT
BEGIN:STANDARD
TZOFFSETFROM:-0700
TZOFFSETTO:-0800
TZNAME:PST
DTSTART:20221106T090000
END:STANDARD
BEGIN:DAYLIGHT
TZOFFSETFROM:-0800
TZOFFSETTO:-0700
TZNAME:PDT
DTSTART:20230312T100000
END:DAYLIGHT
BEGIN:STANDARD
TZOFFSETFROM:-0700
TZOFFSETTO:-0800
TZNAME:PST
DTSTART:20231105T090000
END:STANDARD
BEGIN:DAYLIGHT
TZOFFSETFROM:-0800
TZOFFSETTO:-0700
TZNAME:PDT
DTSTART:20240310T100000
END:DAYLIGHT
BEGIN:STANDARD
TZOFFSETFROM:-0700
TZOFFSETTO:-0800
TZNAME:PST
DTSTART:20241103T090000
END:STANDARD
BEGIN:DAYLIGHT
TZOFFSETFROM:-0800
TZOFFSETTO:-0700
TZNAME:PDT
DTSTART:20250309T100000
END:DAYLIGHT
BEGIN:STANDARD
TZOFFSETFROM:-0700
TZOFFSETTO:-0800
TZNAME:PST
DTSTART:20251102T090000
END:STANDARD
END:VTIMEZONE
BEGIN:VEVENT
DTSTART;TZID=America/Los_Angeles:20241005T090000
DTEND;TZID=America/Los_Angeles:20241005T170000
DTSTAMP:20260424T141727
CREATED:20240926T224824Z
LAST-MODIFIED:20240926T225727Z
UID:128785-1728118800-1728147600@www.saccountygop.com
SUMMARY:Make History on October 5th
DESCRIPTION:
URL:https://www.saccountygop.com/calendar/make-history-on-october-5th/
CATEGORIES:2024 Election,Events,Republican Candidate Event
ATTACH;FMTTYPE=image/png:https://www.saccountygop.com/wp-content/uploads/2024/09/Oct-5-Super-Saturday-with-Hoover-Kiley-Gallagher-header.png
END:VEVENT
BEGIN:VEVENT
DTSTART;TZID=America/Los_Angeles:20231104T110000
DTEND;TZID=America/Los_Angeles:20231104T160000
DTSTAMP:20260424T141727
CREATED:20231026T171536Z
LAST-MODIFIED:20231103T193944Z
UID:127002-1699095600-1699113600@www.saccountygop.com
SUMMARY:Saturday November 4th is Super Saturday!
DESCRIPTION:Join with parents\, teachers\, taxpayers\, and students as we encourage voters in Citrus Heights and Natomas to vote for our Republican candidates for school board in the November 7th Election! \nBoth races are expecting a low turnout since this is a special election. Our candidates are on a pathway to win their seat where they can make policies that will improve academic achievement and keep parents involved in important decisions impacting their children. \nWhether you’d like to walk with the candidates\, or phone voters from our headquarters\, please step up and help us elect these great leaders. \nUse the sign up link below to register for the phone bank\, or to let the candidates know you plan to walk with them. \nThis is also a great opportunity for students to learn about the political process and to gain political/community service hours.  \nSee you on November 4th and THANK YOU! \n  \n			\n				Sign Up To Volunteer on Nov. 4th!
URL:https://www.saccountygop.com/calendar/saturday-november-4th-is-super-saturday/
LOCATION:SCRP Headquarters\, 9851 Horn Road\, Ste. 100\, Sacramento\, 95827\, United States
CATEGORIES:Events,Republican Candidate Event,School Districts
ATTACH;FMTTYPE=image/png:https://www.saccountygop.com/wp-content/uploads/2023/10/Nov-4-Super-Saturday-Facebook-Cover.png
END:VEVENT
BEGIN:VEVENT
DTSTART;TZID=America/Los_Angeles:20221016T120000
DTEND;TZID=America/Los_Angeles:20221016T160000
DTSTAMP:20260424T141727
CREATED:20220827T204444Z
LAST-MODIFIED:20221015T220747Z
UID:125098-1665921600-1665936000@www.saccountygop.com
SUMMARY:Candidate Fair and Ballot Collection
DESCRIPTION:Grab your ballot and bring it to SacCountyGOP’s Open House with the Candidates!  \nMeet the candidates running for local\, state and federal offices. They’re working around the clock to improve your quality of life. Come and show them some appreciation! \nSunday\, October 16th \nNoon – Barbecue & Drinks Available – Candidate Booths 1pm – Stroll through the area outside our headquarters and talk to the candidates and their teams – Candidates will speak as they arrive.2pm – We’ll be taking pictures and videos as we rally with the Candidates!4pm – Event Concludes – make sure you pick up Voter Guides to share with your neighbors\, friends\, and family! \n			\n				RSVP for October 16th!
URL:https://www.saccountygop.com/calendar/candidate-fair-and-ballot-collection/
LOCATION:SCRP Headquarters\, 9851 Horn Road\, Ste. 100\, Sacramento\, 95827\, United States
CATEGORIES:Events,Republican Candidate Event,SCRP
ATTACH;FMTTYPE=image/png:https://www.saccountygop.com/wp-content/uploads/2022/08/Oct-16-Open-House-header.png
END:VEVENT
BEGIN:VEVENT
DTSTART;TZID=America/Los_Angeles:20221013T173000
DTEND;TZID=America/Los_Angeles:20221013T193000
DTSTAMP:20260424T141727
CREATED:20221009T221548Z
LAST-MODIFIED:20221009T221548Z
UID:125281-1665682200-1665689400@www.saccountygop.com
SUMMARY:Tailgate with the Candidates in Gold River
DESCRIPTION:Come to Gold River and enjoy food\, drinks\, and the latest news from our candidates in the field! \n			\n				RSVP for October 13th!
URL:https://www.saccountygop.com/calendar/tailgate-with-the-candidates-in-gold-river/
LOCATION:SCRP Headquarters\, 9851 Horn Road\, Ste. 100\, Sacramento\, 95827\, United States
CATEGORIES:Events,Republican Candidate Event,SCRP
ATTACH;FMTTYPE=image/png:https://www.saccountygop.com/wp-content/uploads/2022/10/Oct-13-header-rev.png
END:VEVENT
BEGIN:VEVENT
DTSTART;TZID=America/Los_Angeles:20220414T173000
DTEND;TZID=America/Los_Angeles:20220414T193000
DTSTAMP:20260424T141727
CREATED:20220313T015007Z
LAST-MODIFIED:20220415T231220Z
UID:124022-1649957400-1649964600@www.saccountygop.com
SUMMARY:April 14 Reception with the Candidates
DESCRIPTION:Thanks for your support!\nComstock MagazineSheriff Scott JonesCathy Cook for AssemblyRoger NielloJon & Barbara SloanTamika Hamilton for CongressDottie Linden\nThursday\, April 14th\nImages from Event Photographer Diana Miller will be available soon!\n \nSpecial Guest:Assembly Republican Leader James Gallagher \n\n\nAssemblyman James Gallagher was elected by his colleagues to lead the Assembly Republican Caucus in February of 2022. He hit the ground running and has improved the visibility and legislative activity of Assembly Republicans\, including offering solutions to the increase in gas prices\, homelessness\, and violent crimes committed by felons released early from California prisons. \n\n\n\n\nWorking with Assemblyman Kevin Kiley\, Gallagher has been holding politicians accountable and lead the legal action against Governor Gavin Newsom’s efforts to curb his use of executive actions in shutting down California’s businesses. \n\n\n Candidates Attending: \nTed Gaines\, Board of Equalization District 1Tamika Hamilton\, Congress District 6Max Semenenko\, Congress District 7Roger Niello\, State Senate District 6Cathy Cook\, Assembly District 6Josh Hoover\, Assembly District 7Assemblyman Heath Flora\, Assembly District 9Eric Rigard\, Assembly District 10Jim Barnes\, Sacramento County SheriffPaul Keefer\, Sacramento County Board of EducationStacey Bastian\, Twin Rivers Unified School District
URL:https://www.saccountygop.com/calendar/april-14-reception-with-the-candidates/
LOCATION:North Ridge Country Club\, 7600 Madison Avenue\, Fair Oaks\, CA
CATEGORIES:Events,Republican Candidate Event
ATTACH;FMTTYPE=image/png:https://www.saccountygop.com/wp-content/uploads/2022/03/Come-Meet-the-Stars-of-Our-Show.png
END:VEVENT
BEGIN:VEVENT
DTSTART;TZID=America/Los_Angeles:20220212T093000
DTEND;TZID=America/Los_Angeles:20220212T093000
DTSTAMP:20260424T141727
CREATED:20211123T215020Z
LAST-MODIFIED:20220202T022117Z
UID:123609-1644658200-1644658200@www.saccountygop.com
SUMMARY:CAGOP Candidate "Nuts & Bolts" Training
DESCRIPTION:This “Nuts and Bolts Candidate Training” will include Campaign Strategy\, Compliance\, Fundraising\, Communications\, Building a Ground Game\, Coalitions\, and Using Data to Win Elections.\nView the Detailed Training Schedule \nCandidates running in the June election for statewide\, congressional\, legislative\, county offices\, Superior Court judge\, County Board of Education\, and Twin Rivers School District\, may pick up their signature-in-lieu documents at Sacramento County Elections on January 3rd (Jan. 4 for County Supervisor). This allows the candidate to collect signatures to eliminate or reduce the filing fee. There is no filing fee to run for school district trustee. They have until February 9 to hand in signatures. The nomination period\, when all signed documents must be received\, runs from February 14 – March 11. If no incumbent is running\, the time is extended to March 16. Learn more. \n			\n			\n				\n				\n				\n				\n			\n				\n				\n				\n				\n				\n				\n				\n				\n				\n				\n				\n			\n			\n				\n				\n				\n				\n				\n				\n				\n				\n				\n				Are you a registered Republican?\nReady to go beyond keyboard warrior?\nTired of watching our State and Nation deteriorate?\nCome learn what it takes to run for office!\n			\n				Reserve Your Seat for February 12th!
URL:https://www.saccountygop.com/calendar/cagop-candidate-nuts-bolts-training/
LOCATION:CRP State Headquarters\, 1001 K Street\, Sacramento\, CA
CATEGORIES:CAGOP,Events,Republican Candidate Event
ATTACH;FMTTYPE=image/png:https://www.saccountygop.com/wp-content/uploads/2021/12/February-12-2022-Candidate-Training.png
END:VEVENT
BEGIN:VEVENT
DTSTART;TZID=America/Los_Angeles:20210405T100000
DTEND;TZID=America/Los_Angeles:20210405T180000
DTSTAMP:20260424T141728
CREATED:20210401T225951Z
LAST-MODIFIED:20210401T230059Z
UID:121493-1617616800-1617645600@www.saccountygop.com
SUMMARY:Special Election Phone Bank for AD 79
DESCRIPTION:Let us know when you can come to headquarters on Monday\, April 5th to make calls for Marco Contreras!\n				\n				\n				\n					\n						\n				\n				\n				\n				\n				Name\n				\n			 \n				\n				\n				\n				\n				Email Address\n				\n			 \n				\n				\n				\n				\n				Phone\n				\n			 \n				\n				\n				\n				\n				When can you come in on Monday?\n				\n						When can you come in on Monday?\n						\n								\n								10am - Noon\n							\n								\n								Noon - 2pm\n							\n								\n								2pm - 4pm\n							\n								\n								4pm - 6pm\n							\n					\n			 \n				\n				\n				\n				\n				Message\n				\n			 \n						\n						\n							\n			\n				\n					14 + 12 = \n				 \n			\n							Sign Up
URL:https://www.saccountygop.com/calendar/special-election-phone-bank-for-ad-79/
LOCATION:SCRP Headquarters\, 9851 Horn Road\, Ste. 100\, Sacramento\, 95827\, United States
CATEGORIES:Events,Republican Candidate Event,SCRP
ATTACH;FMTTYPE=image/png:https://www.saccountygop.com/wp-content/uploads/2021/04/Marco-Contreras-for-Assembly-special-1.png
END:VEVENT
BEGIN:VEVENT
DTSTART;TZID=America/Los_Angeles:20201003T100000
DTEND;TZID=America/Los_Angeles:20201003T140000
DTSTAMP:20260424T141728
CREATED:20200527T221226Z
LAST-MODIFIED:20201001T005447Z
UID:119617-1601719200-1601733600@www.saccountygop.com
SUMMARY:SacCountyGOP Open House
DESCRIPTION:The event is open to registered guests who support our candidates only. It is not open to the public or the media. All activities will be outdoors on private property. We ask guests to follow County Health guidelines. \n			\n				\n				\n				\n				\n				\n			\n			\n				\n				\n				\n				\n				\n				\n				\n				\n				\n				SacCountyGOP is ready to Get Out The Vote! \nOPEN HOUSE & CAR RALLY\nSaturday\, October 3\, 2020\n10am – 1pm – Speakers & Trainings1-2pm Car Rally in Sacramento\nGet Trained and Take Action!\nAt 10:30am we will be training volunteers to call voters\, distribute door hangers\, and collect Republican ballots! We all understand the importance of this election\, and SacCountyGOP will help you find the best way to make a difference. \nAt Noon\, Sacramento Sheriff Captain Jim Barnes will talk about the importance of supporting Prop 20 (Keep CA Safe) and Opposing Prop 25 (Protect Bail Bonds).  \nOctober 3rd is also National MAGA Rally Day!  We will participate by leaving from the Open House at 1pm on a surface street route to be provided! Dress up your car with Trump flags that you can purchase at the SacCountyGOP Open House! Go crazy…but let’s keep it positive!  Please sign up below so we know you’re joining in. \n			\n				RSVP for the October 3 Open House GOTV Training & Car Rally\n			\n				\n				\n				\n				\n				The candidates who are running for local\, state\, and federal offices in your district will be there to greet you and to let you know how you can assist in their races.  \n  \nWhile this is primarily an outdoor event\, some trainings will take place in shifts in our large meeting room. Other activities will be outside. We do ask guests to respect each other’s health needs. If you are unwell\, or have been exposed to COVID or other dreaded and communicable diseases\, please plan to attend a future event instead. We’re all in this together!
URL:https://www.saccountygop.com/calendar/saccountygop-open-house/
LOCATION:SCRP Headquarters\, 9851 Horn Road\, Ste. 100\, Sacramento\, 95827\, United States
CATEGORIES:Events,Republican Candidate Event,SCRP,Support GOP Legislators
ATTACH;FMTTYPE=image/png:https://www.saccountygop.com/wp-content/uploads/2020/05/Open-House-Header-2sm.png
END:VEVENT
BEGIN:VEVENT
DTSTART;TZID=America/Los_Angeles:20200731T150000
DTEND;TZID=America/Los_Angeles:20200731T180000
DTSTAMP:20260424T141728
CREATED:20200730T013032Z
LAST-MODIFIED:20200730T022730Z
UID:120211-1596207600-1596218400@www.saccountygop.com
SUMMARY:Headquarters Opening for Patterson for Congress
DESCRIPTION:
URL:https://www.saccountygop.com/calendar/headquarters-opening-for-patterson-for-congress/
LOCATION:Patterson for Congress Headquarters\, 1004 River Rock Drive #243\, Folsom\, CA\, 95630
CATEGORIES:Events,Republican Candidate Event
ATTACH;FMTTYPE=image/png:https://www.saccountygop.com/wp-content/uploads/2020/07/Patterson-Hdqrts-Opening-feature.png
END:VEVENT
BEGIN:VEVENT
DTSTART;TZID=America/Los_Angeles:20190618T160000
DTEND;TZID=America/Los_Angeles:20190618T180000
DTSTAMP:20260424T141728
CREATED:20190612T233044Z
LAST-MODIFIED:20190617T200749Z
UID:118484-1560873600-1560880800@www.saccountygop.com
SUMMARY:Nat'l Hispanic Assembly Presidential Watch Party
DESCRIPTION:Plan to arrive early for this event so that you can enjoy appetizers provided by Sutter Street Taqueria\, courtesy of SacCountyGOP Ctte Member Rosario Rodriguez. \nBe sure to RSVP to aduarte7340@gmail.com!
URL:https://www.saccountygop.com/calendar/natl-hispanic-assembly-presidential-watch-party/
LOCATION:SCRP Headquarters\, 9851 Horn Road\, Ste. 100\, Sacramento\, 95827\, United States
CATEGORIES:Republican Candidate Event
ATTACH;FMTTYPE=image/png:https://www.saccountygop.com/wp-content/uploads/2019/06/RNHA-WP-June-18-2019-Trump-Announcement-Watch-Image-2.png
END:VEVENT
BEGIN:VEVENT
DTSTART;TZID=America/Los_Angeles:20190227T173000
DTEND;TZID=America/Los_Angeles:20190227T200000
DTSTAMP:20260424T141728
CREATED:20190225T190833Z
LAST-MODIFIED:20190225T191102Z
UID:117954-1551288600-1551297600@www.saccountygop.com
SUMMARY:Top GOP Candidates in SD 1 Special Election to Debate
DESCRIPTION:The Sun City Roseville Republicans will sponsor a debate between the three top candidates in the race to replace Senator Ted Gaines who was elected to the Board of Equalization. \nCo-hosts include the Lincoln Club of the Sierras\, Impact Republicans\, and the Auburn Area Republican Women. \nRSVPs are required for this free event.  Learn about all of the candidates on our SD 1 Election page. \n[pdf-embedder url=”https://www.saccountygop.com/wp-content/uploads/2019/02/CA-State-Senate-District-1-Debate-Flyer-2-27.pdf” title=”CA State Senate District 1 Debate Flyer 2-27″] \n 
URL:https://www.saccountygop.com/calendar/top-gop-candidates-in-sd-1-special-election-to-debate/
LOCATION:The Ballroom Timber Creek Lodge\, 7050 Del Webb Blvd.\, Roseville
CATEGORIES:Republican Candidate Event
END:VEVENT
BEGIN:VEVENT
DTSTART;TZID=America/Los_Angeles:20190205T153000
DTEND;TZID=America/Los_Angeles:20190205T183000
DTSTAMP:20260424T141728
CREATED:20181214T002707Z
LAST-MODIFIED:20190205T182006Z
UID:117710-1549380600-1549391400@www.saccountygop.com
SUMMARY:2019 State of the Union Watch Party - New Date!
DESCRIPTION:Press Release \n			\n				\n				\n				\n				\n				Use the form to purchase tickets online\, or download this invitation and response form and mail to SacCountyGOP\, Post Office Box 255367\, Sacramento\, CA 95865 by Feb. 1. \nBenefits of Sponsorships: Get your seat at the table! \n$100 – SCRP Century Club 4 tickets (half table) and acknowledgement at the event \n$250 – Friends of MAGA 8 tickets (one table)\, and acknowledgement on website and at event \n$500 – Victory 2020 16 tickets (two tables)\, acknowledgement on website\, social media and at event \nTo RSVP and provide the names of your guests\, email info@SacCountyGOP.com. \nView President Trump’s SOTU address in 2018.
URL:https://www.saccountygop.com/calendar/2019-state-of-the-union-watch-party/
LOCATION:VFW Post 6604\, 1300 Forrest Avenue\, Folsom\, CA
CATEGORIES:Republican Candidate Event
ATTACH;FMTTYPE=image/png:https://www.saccountygop.com/wp-content/uploads/2018/12/2018-SOTU-image.png
END:VEVENT
BEGIN:VEVENT
DTSTART;TZID=America/Los_Angeles:20181104T130000
DTEND;TZID=America/Los_Angeles:20181104T141500
DTSTAMP:20260424T141728
CREATED:20181101T184452Z
LAST-MODIFIED:20181104T025153Z
UID:117573-1541336400-1541340900@www.saccountygop.com
SUMMARY:John Cox Rally in Sacramento
DESCRIPTION:John Cox is in it to win it\nand we have to do everything we can\nto convince undecided voters that\nHelp Is On The Way!\nGather at the Sacramento County Republican Party Headquarters on Sunday before the Election to hear from John Cox and learn how you can encourage voters to turn out. Questions? Call us at (916) 822-5618. \nDon’t forget to turn back your clocks Saturday night! If you don’t\, and arrive an hour early\, you will be put to work! Really! \nDirections:  \nFrom Hwy. 50\, take the Bradshaw Exit and head North. Turn right on Folsom Blvd. and the next right is Horn Road. Immediately turn left into the Brookside Restaurant parking lot and follow it through the back alongside the brick buildings in the business park. We are the only white stucco building on the left. Please RSVP below and we’ll see you there! \n[wpforms id=”117588″ title=”false” description=”false”]
URL:https://www.saccountygop.com/calendar/john-cox-rally-in-sacramento/
LOCATION:SCRP Headquarters\, 9851 Horn Road\, Ste. 100\, Sacramento\, 95827\, United States
CATEGORIES:Republican Candidate Event,SCRP
ATTACH;FMTTYPE=image/png:https://www.saccountygop.com/wp-content/uploads/2018/11/Sac-Rally-Event-Feature.png
END:VEVENT
BEGIN:VEVENT
DTSTART;TZID=America/Los_Angeles:20181008T090000
DTEND;TZID=America/Los_Angeles:20181008T090000
DTSTAMP:20260424T141728
CREATED:20181002T024708Z
LAST-MODIFIED:20181008T015240Z
UID:117378-1538989200-1538989200@www.saccountygop.com
SUMMARY:Governor Candidates Debate
DESCRIPTION:Gavin Newsom has finally agreed to face Republican John Cox…on the radio…in San Francisco. \nKQED will make the live radio debate available to other stations around California\, and Sacramento-based CapRadio will carry it live on 90.9 FM. \nLearn more.
URL:https://www.saccountygop.com/calendar/governor-candidates-debate/
LOCATION:KQED Radio
CATEGORIES:Republican Candidate Event
ATTACH;FMTTYPE=image/png:https://www.saccountygop.com/wp-content/uploads/2018/10/Newsom-Cox.png
END:VEVENT
BEGIN:VEVENT
DTSTART;TZID=America/Los_Angeles:20180904T163000
DTEND;TZID=America/Los_Angeles:20180904T190000
DTSTAMP:20260424T141728
CREATED:20180820T170939Z
LAST-MODIFIED:20180831T172000Z
UID:117191-1536078600-1536087600@www.saccountygop.com
SUMMARY:Joshua Hoover for School Board Event
DESCRIPTION:Come meet Joshua Hoover who is running for Folsom Cordova School Board at his last fundraiser of the year and pick up a lawn sign for your yard! \nFor tickets and contributions to “Joshua Hoover for School Board 2018” visit www.electjoshua.com or mail to P.O. Box 6761\, Folsom\, CA 95763. \nTickets will also be available at the door. Cost: $25 or Sponsor $100. \nBeer\, wine and snacks will be served. \nRSVP: joshua@electjoshua.com \n 
URL:https://www.saccountygop.com/calendar/joshua-hoover-for-school-board-event/
LOCATION:Home of Tony & Stephanie Herrera\, 86 Cascade Falls Drive\, Folsom\, California
CATEGORIES:Republican Candidate Event
ATTACH;FMTTYPE=image/png:https://www.saccountygop.com/wp-content/uploads/2018/08/Josh-Hoover-Banner.png
END:VEVENT
BEGIN:VEVENT
DTSTART;TZID=America/Los_Angeles:20180901T090000
DTEND;TZID=America/Los_Angeles:20180901T130000
DTSTAMP:20260424T141728
CREATED:20180821T051009Z
LAST-MODIFIED:20180829T063932Z
UID:117189-1535792400-1535806800@www.saccountygop.com
SUMMARY:SacCountyGOP Walk for Andrew Grant for Congress
DESCRIPTION:  \nRSVP for this important event at: Volunteer@SacCountyGOP.com
URL:https://www.saccountygop.com/calendar/saccountygop-walk-for-andrew-grant-for-congress/
LOCATION:Grant for Congress Hdqrts\, 9381 E. Stockton Blvd\, Elk Grove
CATEGORIES:Republican Candidate Event
ATTACH;FMTTYPE=image/png:https://www.saccountygop.com/wp-content/uploads/2018/08/Walk-For-Andrew-Grant.png
END:VEVENT
BEGIN:VEVENT
DTSTART;TZID=America/Los_Angeles:20180605T060000
DTEND;TZID=America/Los_Angeles:20180605T190000
DTSTAMP:20260424T141728
CREATED:20180510T182810Z
LAST-MODIFIED:20180510T183535Z
UID:116806-1528178400-1528225200@www.saccountygop.com
SUMMARY:Election Day
DESCRIPTION:California voters have until June 5 to vote on five ballot measures and a long list of candidates for local\, state and federal offices. Learn more about how to vote in Sacramento on our Elections page. All Vote Centers will be open on Election Day from 7am – 8pm. View the list of Vote Centers and Drop-off Boxes. \nDo not go to your traditional polling place on Election Day! Only regional Vote Centers will be available. \nQuestions? Call the Sacramento County Republican Party Voter Help Line at (916) 822-5618. \nThe Sacramento County Republican Party has a list of recommended positions on the ballot measures\, and the candidates. \nIf you would like to help us turn out voters to support our Republican candidates\, visit the Volunteer page and sign up!
URL:https://www.saccountygop.com/calendar/election-day/
CATEGORIES:Republican Candidate Event
ATTACH;FMTTYPE=image/png:https://www.saccountygop.com/wp-content/uploads/2018/05/VCA-Cvr-Page.png
END:VEVENT
BEGIN:VEVENT
DTSTART;TZID=America/Los_Angeles:20180430T103000
DTEND;TZID=America/Los_Angeles:20180430T130000
DTSTAMP:20260424T141728
CREATED:20180424T120555Z
LAST-MODIFIED:20180424T120730Z
UID:116717-1525084200-1525093200@www.saccountygop.com
SUMMARY:Joshua Hoover for School Board Spring Fundraiser
DESCRIPTION:Join local elected officials and community leaders in support of Joshua Hoover for Folsom Cordova School Board. Learn more about his campaign. \nBeer\, wine\, and appetizers will be served. \nRSVP: joshua@electjoshua.com. \nCost: $100 Sponsor or $50 Ticket \nContributions to “Joshua Hoover for School Board 2018” can be made online at www.electjoshua.com or mailed to P.O. Box 6761\, Folsom\, CA 95763. Tickets will also be available at the door.
URL:https://www.saccountygop.com/calendar/joshua-hoover-for-school-board-spring-fundraiser/
LOCATION:Sutter Street Taqueria\, 727 Sutter Street\, Folsom\, CA
CATEGORIES:Republican Candidate Event
ATTACH;FMTTYPE=image/jpeg:https://www.saccountygop.com/wp-content/uploads/2018/04/Hoover-Family.jpg
ORGANIZER;CN="Joshua Hoover for School Board":MAILTO:joshua@electjoshua.com
END:VEVENT
BEGIN:VEVENT
DTSTART;TZID=America/Los_Angeles:20170925T103000
DTEND;TZID=America/Los_Angeles:20170925T123000
DTSTAMP:20260424T141728
CREATED:20170915T054738Z
LAST-MODIFIED:20170915T055105Z
UID:116081-1506335400-1506342600@www.saccountygop.com
SUMMARY:Rancho Murieta Reception in Support of Andrew Grant for Congress
DESCRIPTION:Wanda and Dan Klaff will host a reception at their home for CD 7 Candidate Andrew Grant. \nRSVP to Wendy Warfield & Associates – 916.492.9604 \nView the invitation for more details and a donor form. \n  \nNote: Sacramento County Republican Party will consider endorsements of Republican candidates in early 2018. Events listed on this site do not represent an endorsement. 
URL:https://www.saccountygop.com/calendar/rancho-murieta-reception-support-andrew-grant-congress/
LOCATION:Private Residence\, Provided Upon RSVP\, Sacramento\, California
CATEGORIES:Republican Candidate Event
ATTACH;FMTTYPE=image/png:https://www.saccountygop.com/wp-content/uploads/2017/09/Grant-for-Congress-Banner.png
END:VEVENT
END:VCALENDAR