BEGIN:VCALENDAR
VERSION:2.0
PRODID:-//Sacramento County Republican Party - ECPv6.15.20//NONSGML v1.0//EN
CALSCALE:GREGORIAN
METHOD:PUBLISH
X-ORIGINAL-URL:https://www.saccountygop.com
X-WR-CALDESC:Events for Sacramento County Republican Party
REFRESH-INTERVAL;VALUE=DURATION:PT1H
X-Robots-Tag:noindex
X-PUBLISHED-TTL:PT1H
BEGIN:VTIMEZONE
TZID:America/Los_Angeles
BEGIN:DAYLIGHT
TZOFFSETFROM:-0800
TZOFFSETTO:-0700
TZNAME:PDT
DTSTART:20190310T100000
END:DAYLIGHT
BEGIN:STANDARD
TZOFFSETFROM:-0700
TZOFFSETTO:-0800
TZNAME:PST
DTSTART:20191103T090000
END:STANDARD
BEGIN:DAYLIGHT
TZOFFSETFROM:-0800
TZOFFSETTO:-0700
TZNAME:PDT
DTSTART:20200308T100000
END:DAYLIGHT
BEGIN:STANDARD
TZOFFSETFROM:-0700
TZOFFSETTO:-0800
TZNAME:PST
DTSTART:20201101T090000
END:STANDARD
BEGIN:DAYLIGHT
TZOFFSETFROM:-0800
TZOFFSETTO:-0700
TZNAME:PDT
DTSTART:20210314T100000
END:DAYLIGHT
BEGIN:STANDARD
TZOFFSETFROM:-0700
TZOFFSETTO:-0800
TZNAME:PST
DTSTART:20211107T090000
END:STANDARD
END:VTIMEZONE
BEGIN:VEVENT
DTSTART;TZID=America/Los_Angeles:20200805T113000
DTEND;TZID=America/Los_Angeles:20200805T133000
DTSTAMP:20260424T083215
CREATED:20200730T032034Z
LAST-MODIFIED:20200730T032034Z
UID:120222-1596627000-1596634200@www.saccountygop.com
SUMMARY:Sacramento Republican Women Fed. Present Sam Parades
DESCRIPTION:
URL:https://www.saccountygop.com/calendar/sacramento-republican-women-fed-present-sam-parades/
LOCATION:SCRP Headquarters\, 9851 Horn Road\, Ste. 100\, Sacramento\, 95827\, United States
CATEGORIES:Events,GOP Organization
ATTACH;FMTTYPE=image/png:https://www.saccountygop.com/wp-content/uploads/2020/07/SacRWF-AugMtg-Sam-Parades.png
END:VEVENT
END:VCALENDAR