BEGIN:VCALENDAR
VERSION:2.0
PRODID:-//Sacramento County Republican Party - ECPv6.15.20//NONSGML v1.0//EN
CALSCALE:GREGORIAN
METHOD:PUBLISH
X-ORIGINAL-URL:https://www.saccountygop.com
X-WR-CALDESC:Events for Sacramento County Republican Party
REFRESH-INTERVAL;VALUE=DURATION:PT1H
X-Robots-Tag:noindex
X-PUBLISHED-TTL:PT1H
BEGIN:VTIMEZONE
TZID:America/Los_Angeles
BEGIN:DAYLIGHT
TZOFFSETFROM:-0800
TZOFFSETTO:-0700
TZNAME:PDT
DTSTART:20200308T100000
END:DAYLIGHT
BEGIN:STANDARD
TZOFFSETFROM:-0700
TZOFFSETTO:-0800
TZNAME:PST
DTSTART:20201101T090000
END:STANDARD
BEGIN:DAYLIGHT
TZOFFSETFROM:-0800
TZOFFSETTO:-0700
TZNAME:PDT
DTSTART:20210314T100000
END:DAYLIGHT
BEGIN:STANDARD
TZOFFSETFROM:-0700
TZOFFSETTO:-0800
TZNAME:PST
DTSTART:20211107T090000
END:STANDARD
BEGIN:DAYLIGHT
TZOFFSETFROM:-0800
TZOFFSETTO:-0700
TZNAME:PDT
DTSTART:20220313T100000
END:DAYLIGHT
BEGIN:STANDARD
TZOFFSETFROM:-0700
TZOFFSETTO:-0800
TZNAME:PST
DTSTART:20221106T090000
END:STANDARD
END:VTIMEZONE
BEGIN:VEVENT
DTSTART;TZID=America/Los_Angeles:20211002T100000
DTEND;TZID=America/Los_Angeles:20211003T170000
DTSTAMP:20260421T040415
CREATED:20210921T051839Z
LAST-MODIFIED:20210921T052245Z
UID:123189-1633168800-1633280400@www.saccountygop.com
SUMMARY:Elk Grove Giant Pumpkin Festival
DESCRIPTION:Come visit the SacCountyGOP Boothat the Elk Grove Giant Pumpkin Festival!\nSaturday\, October 2nd & Sunday\, October 3rd10am – 5pm \nThis family-friendly event includes lots of activities for the kids\, and\, of course\, a competition for the heaviest giant pumpkin! \nWe’ll have a new inventory of merchandise including Back the Blue\, America First\, and 2nd Amendment hats\, shirts\, and flags! We might even have some Trump socks for that perfect stocking stuffer. Never too early to shop for the Holidays!
URL:https://www.saccountygop.com/calendar/elk-grove-giant-pumpkin-festival/
LOCATION:Elk Grove Regional Park\, 9950 Elk Grove-Florin Road\, Elk Grove
CATEGORIES:Community Event,Events
ATTACH;FMTTYPE=image/jpeg:https://www.saccountygop.com/wp-content/uploads/2021/09/Header-scaled.jpg
END:VEVENT
END:VCALENDAR