BEGIN:VCALENDAR
VERSION:2.0
PRODID:-//Sacramento County Republican Party - ECPv6.15.20//NONSGML v1.0//EN
CALSCALE:GREGORIAN
METHOD:PUBLISH
X-WR-CALNAME:Sacramento County Republican Party
X-ORIGINAL-URL:https://www.saccountygop.com
X-WR-CALDESC:Events for Sacramento County Republican Party
REFRESH-INTERVAL;VALUE=DURATION:PT1H
X-Robots-Tag:noindex
X-PUBLISHED-TTL:PT1H
BEGIN:VTIMEZONE
TZID:America/Los_Angeles
BEGIN:DAYLIGHT
TZOFFSETFROM:-0800
TZOFFSETTO:-0700
TZNAME:PDT
DTSTART:20240310T100000
END:DAYLIGHT
BEGIN:STANDARD
TZOFFSETFROM:-0700
TZOFFSETTO:-0800
TZNAME:PST
DTSTART:20241103T090000
END:STANDARD
BEGIN:DAYLIGHT
TZOFFSETFROM:-0800
TZOFFSETTO:-0700
TZNAME:PDT
DTSTART:20250309T100000
END:DAYLIGHT
BEGIN:STANDARD
TZOFFSETFROM:-0700
TZOFFSETTO:-0800
TZNAME:PST
DTSTART:20251102T090000
END:STANDARD
BEGIN:DAYLIGHT
TZOFFSETFROM:-0800
TZOFFSETTO:-0700
TZNAME:PDT
DTSTART:20260308T100000
END:DAYLIGHT
BEGIN:STANDARD
TZOFFSETFROM:-0700
TZOFFSETTO:-0800
TZNAME:PST
DTSTART:20261101T090000
END:STANDARD
END:VTIMEZONE
BEGIN:VEVENT
DTSTART;TZID=America/Los_Angeles:20250910T183000
DTEND;TZID=America/Los_Angeles:20250910T193000
DTSTAMP:20260421T152902
CREATED:20250818T204240Z
LAST-MODIFIED:20250903T224502Z
UID:130144-1757529000-1757532600@www.saccountygop.com
SUMMARY:September 2025 Central Committee Meeting
DESCRIPTION:The Sacramento County Republican Central Committee meets on the second Wednesday of the month. Meetings begin at 6:30pm. We do not hold meetings in July or December\, unless there is a special need. \nAll registered Republicans who live in Sacramento County are welcome to attend the Committee meeting as guests\, and may observe\, but not participate in the proceedings. In order to confirm registration status\, advance sign up is appreciated but not required\, and no registered Republican in good standing who resides within the County will be turned away unless the meeting room has reached occupant capacity. Guests may sign-up at this link. \nThe September Agenda will include an update on the Special Election for redistricting and any actions taken during the CAGOP Fall Convention. \n			\n			\n				\n				\n				\n				\n				\n				\n				\n				\n				\n				\n			\n				\n				\n				\n				\n				About SacCountyGOP Meetings \nThe Sacramento County Republican Central Committee meetings are open to Committee Members\, Alternates\, and Associates with some open seats for Sacramento County registered Republicans in good standing. Since participation in the Committee meeting is reserved for Committee members or their Alternates\, guests are encouraged to discuss their ideas in advance with a committee member (view the list of members)\, or to send their comments to info@saccountygop.com.\nNo video/audio recording is allowed during the meeting\, including on phones. Photos/videos will be taken by representatives of the SacCountyGOP only. Thank you!\n			\n			\n				\n				\n				\n				\n			\n				\n				\n				\n				\n				\n				\n				\n				\n				\n				\n				What Happened at the August Committee Meeting? \nCommittee Member Carl Burton was approved as the Voter Registration Chair. Mr. Burton called on all Committee Members to register at least five new Republican voters. \nPresiding 1st Vice Chair Sue Blake announced that Rep. Jim Jordon will be SacGOP’s featured guest\, along with Rep. Kevin Kiley\, at a September 6 fundraising reception in Folsom. More details.
URL:https://www.saccountygop.com/calendar/september-2025-central-committee-meeting/
LOCATION:Sacramento Gun Club\, 3443 Routier Road\, Sacramento\, 95827\, United States
ATTACH;FMTTYPE=image/png:https://www.saccountygop.com/wp-content/uploads/2024/12/Meeting-Header.png
END:VEVENT
END:VCALENDAR