BEGIN:VCALENDAR
VERSION:2.0
PRODID:-//Sacramento County Republican Party - ECPv6.15.20//NONSGML v1.0//EN
CALSCALE:GREGORIAN
METHOD:PUBLISH
X-ORIGINAL-URL:https://www.saccountygop.com
X-WR-CALDESC:Events for Sacramento County Republican Party
REFRESH-INTERVAL;VALUE=DURATION:PT1H
X-Robots-Tag:noindex
X-PUBLISHED-TTL:PT1H
BEGIN:VTIMEZONE
TZID:America/Los_Angeles
BEGIN:DAYLIGHT
TZOFFSETFROM:-0800
TZOFFSETTO:-0700
TZNAME:PDT
DTSTART:20230312T100000
END:DAYLIGHT
BEGIN:STANDARD
TZOFFSETFROM:-0700
TZOFFSETTO:-0800
TZNAME:PST
DTSTART:20231105T090000
END:STANDARD
BEGIN:DAYLIGHT
TZOFFSETFROM:-0800
TZOFFSETTO:-0700
TZNAME:PDT
DTSTART:20240310T100000
END:DAYLIGHT
BEGIN:STANDARD
TZOFFSETFROM:-0700
TZOFFSETTO:-0800
TZNAME:PST
DTSTART:20241103T090000
END:STANDARD
BEGIN:DAYLIGHT
TZOFFSETFROM:-0800
TZOFFSETTO:-0700
TZNAME:PDT
DTSTART:20250309T100000
END:DAYLIGHT
BEGIN:STANDARD
TZOFFSETFROM:-0700
TZOFFSETTO:-0800
TZNAME:PST
DTSTART:20251102T090000
END:STANDARD
END:VTIMEZONE
BEGIN:VEVENT
DTSTART;TZID=America/Los_Angeles:20240227T180000
DTEND;TZID=America/Los_Angeles:20240227T200000
DTSTAMP:20260423T154951
CREATED:20240210T014215Z
LAST-MODIFIED:20240215T220011Z
UID:127422-1709056800-1709064000@www.saccountygop.com
SUMMARY:Evening Reception in Fair Oaks for Assemblyman Hoover
DESCRIPTION:Tuesday\, February 27th6pm – 8pm\nSponsorship Levels:$5500 Platinum – 10 Guests$2500 Gold – 8 Guests$1000 Silver – 6 Guests$500 Bronze – 4 Guests \n$125 Individual \nMake checks payable to:Hoover for Assembly 2024 and mail to 1127 11th Street\, Ste. 226\, Sacramento\, CA 95814 \nQuestions? Call (916) 498-9223Email capitaldevelopmentstrategies@gmail.com \nDonate Online
URL:https://www.saccountygop.com/calendar/evening-reception-in-fair-oaks-for-assemblyman-hoover/
LOCATION:Fabian’s Italian Bistro\, 11755 Fair Oaks Blvd.\, Fair Oaks\, California
CATEGORIES:23-24 Candidate Events,Events
END:VEVENT
END:VCALENDAR